BEGIN:VCALENDAR
VERSION:2.0
PRODID:-//ChamberMaster//Event Calendar 2.0//EN
METHOD:PUBLISH
X-PUBLISHED-TTL:P3D
REFRESH-INTERVAL:P3D
CALSCALE:GREGORIAN
BEGIN:VEVENT
DTSTART:20210922T203000Z
DTEND:20210922T223000Z
X-MICROSOFT-CDO-ALLDAYEVENT:FALSE
SUMMARY:Family Night Out at Millville Boardwalk
DESCRIPTION:Join us on September 22 for our 4th Annual Family Night Out in collaboration with The Millville Boardwalk. This non-traditional event will feature opportunities for networking connections\, as well as fun for the whole family! \n\n\n\nBring your family and enjoy the food and fun activities\, including:\n\n	Food \n	\n		Agape Creamery \n		 Bethany Blues - Mac & Cheese and Pork Sliders\n		Off The Hook Restaurant - $2 Tacos\n	\n	\n	Activities\n	\n		Adkins Produce -  Paint a pumpkin\n		Atlantic Physical Therapy -Fitness Activity Center\n		Bethany Beach Books \n		Captain's Quarters \n		 Coastal Point\n		Custom Fit360\n		Millville Volunteer Fire Company - Firetruck and info table on their Capital Campaign\n		Selbyville Public Library - Craft and Book Giveaway \n		Tidepool Toys & Games -Archery \n		Seaside Seven \n		South Coastal Villages - Coloring books \n	\n	\n\nMILLVILLE BOARDWALK \n\n20% of proceeds will go toward the Selbyville Public Library. \n\n  \n\nParking will be available at  McCarthy's Stone Yard adjacent to Millville Boardwalk.\n\n\n\nAt this event\, the Bethany-Fenwick Area Chamber of Commerce will present a silent auction check  to each of the local elementary and middle school art teachers to be used for their art classrooms. Funds were raised from the Annual Bethany Beach Boardwalk Arts Festival.\n\n \n\n\nInterested in hosting a networking event\, or learning how you can become a member spotlight at future Business After Hours? Contact us at membership@thequietresorts.com or 302-539-2100.
X-ALT-DESC;FMTTYPE=text/html:<span style="font-family: arial\;"><span style="font-size: 14px\;">Join us on September 22 for our 4th Annual Family Night Out in collaboration with <a href="https://www.millvilleboardwalk.com/">The Millville Boardwalk</a>.</span><span style="font-size: 14px\;">&nbsp\;This non-traditional event will feature opportunities for networking connections\, as well as fun for the whole family!&nbsp\;</span><br />\n<br />\n<span style="font-size: 14px\;"><strong style="font-family: arial\;">Bring your family and enjoy the food and fun activities\, including:</strong></span></span>\n<ul>\n	<li style="font-family: arial\;"><span style="font-family: arial\;"><span style="caret-color: rgb(29\, 33\, 41)\;"><span style="font-family: arial\;"><span style="font-size: 14px\;"><span style="caret-color: rgb(29\, 33\, 41)\;"><span style="font-family: arial\;"><span style="font-size: 14px\;"><span style="caret-color: rgb(29\, 33\, 41)\;"><strong>Food&nbsp\;</strong></span></span></span></span></span></span></span></span>\n	<ul>\n		<li style="font-family: arial\;"><span style="font-size:14px\;"><strong><span style="font-family:arial\;">Agape&nbsp\;Creamery&nbsp\;</span></strong></span></li>\n		<li style="font-family: arial\;"><strong><span style="font-family:arial\;"><span style="caret-color: rgb(29\, 33\, 41)\;"><span style="font-size: 14px\;"><span style="caret-color: rgb(29\, 33\, 41)\;"><span style="font-size: 14px\;"><span style="caret-color: rgb(29\, 33\, 41)\;">&#8203\;Bethany Blues - </span></span></span></span></span></span></strong><span style="font-family:arial\;"><span style="caret-color: rgb(29\, 33\, 41)\;"><span style="font-size: 14px\;"><span style="caret-color: rgb(29\, 33\, 41)\;"><span style="font-size: 14px\;"><span style="caret-color: rgb(29\, 33\, 41)\;">Mac &amp\; Cheese and Pork Sliders</span></span></span></span></span></span></li>\n		<li style="font-family: arial\;"><strong><span style="font-family:arial\;"><span style="caret-color: rgb(29\, 33\, 41)\;"><span style="font-size: 14px\;"><span style="caret-color: rgb(29\, 33\, 41)\;"><span style="font-size: 14px\;"><span style="caret-color: rgb(29\, 33\, 41)\;">Off The Hook Restaurant - </span></span></span></span></span></span></strong><span style="font-family:arial\;"><span style="caret-color: rgb(29\, 33\, 41)\;"><span style="font-size: 14px\;"><span style="caret-color: rgb(29\, 33\, 41)\;"><span style="font-size: 14px\;"><span style="caret-color: rgb(29\, 33\, 41)\;">$2 Tacos</span></span></span></span></span></span></li>\n	</ul>\n	</li>\n	<li style="font-family: arial\;"><span style="font-family: arial\;"><span style="caret-color: rgb(29\, 33\, 41)\;"><span style="font-family: arial\;"><span style="font-size: 14px\;"><span style="caret-color: rgb(29\, 33\, 41)\;"><span style="font-family: arial\;"><span style="font-size: 14px\;"><span style="caret-color: rgb(29\, 33\, 41)\;"><span style="font-family: arial\;"><span style="caret-color: rgb(29\, 33\, 41)\;"><span style="font-family: arial\;"><span style="font-size: 14px\;"><span style="caret-color: rgb(29\, 33\, 41)\;"><span style="font-family: arial\;"><span style="font-size: 14px\;"><span style="caret-color: rgb(29\, 33\, 41)\;"><strong>Activities</strong></span></span></span></span></span></span></span></span></span></span></span></span></span></span></span></span>\n	<ul>\n		<li style="font-family: arial\;"><span style="font-size:14px\;"><span style="font-family:arial\;"><strong>Adkins Produce -&nbsp\; </strong>Paint a pumpkin</span></span></li>\n		<li style="font-family: arial\;"><span style="font-size:14px\;"><span style="font-family:arial\;"><b style="color: rgb(51\, 51\, 51)\; font-family: arial\; font-size: 14px\; caret-color: rgb(29\, 33\, 41)\; background-color: rgb(255\, 255\, 255)\;">Atlantic Physical Therapy -</b>Fitness Activity Center</span></span></li>\n		<li style="font-family: arial\;"><span style="font-size:14px\;"><span style="font-family:arial\;"><strong>Bethany Beach Books&nbsp\;</strong></span></span></li>\n		<li style="font-family: arial\;"><span style="font-size:14px\;"><span style="font-family:arial\;"><strong>Captain&#39\;s Quarters&nbsp\;</strong></span></span></li>\n		<li style="font-family: arial\;"><span style="font-size:14px\;"><span style="font-family:arial\;"><strong><span style="caret-color: rgb(29\, 33\, 41)\;"><span style="caret-color: rgb(29\, 33\, 41)\;"><span style="caret-color: rgb(29\, 33\, 41)\;"><span style="caret-color: rgb(29\, 33\, 41)\;"><span style="caret-color: rgb(29\, 33\, 41)\;"><span style="caret-color: rgb(29\, 33\, 41)\;">&#8203\;Coastal Point</span></span></span></span></span></span></strong></span></span></li>\n		<li style="font-family: arial\;"><span style="font-size:14px\;"><span style="font-family:arial\;"><strong><span style="caret-color: rgb(29\, 33\, 41)\;">Custom Fit360</span></strong></span></span></li>\n		<li style="font-family: arial\;"><span style="font-size:14px\;"><span style="font-family:arial\;"><span style="caret-color: rgb(29\, 33\, 41)\;"><b>Millville Volunteer Fire Company -&nbsp\;</b>Firetruck and info table on their Capital Campaign</span></span></span></li>\n		<li style="font-family: arial\;"><span style="font-size:14px\;"><span style="font-family:arial\;"><span style="caret-color: rgb(29\, 33\, 41)\;"><b>Selbyville Public Library - </b>Craft&nbsp\;and Book Giveaway&nbsp\;</span></span></span></li>\n		<li style="font-family: arial\;"><span style="font-size:14px\;"><span style="font-family:arial\;"><span style="caret-color: rgb(29\, 33\, 41)\;"><b>Tidepool Toys &amp\;&nbsp\;Games -</b>Archery&nbsp\;</span></span></span></li>\n		<li style="font-family: arial\;"><span style="font-size:14px\;"><span style="font-family:arial\;"><span style="caret-color: rgb(29\, 33\, 41)\;"><b>Seaside Seven&nbsp\;</b></span></span></span></li>\n		<li style="font-family: arial\;"><span style="font-size:14px\;"><span style="font-family:arial\;"><span style="caret-color: rgb(29\, 33\, 41)\;"><b>South Coastal Villages -</b>&nbsp\;Coloring books&nbsp\;</span></span></span></li>\n	</ul>\n	</li>\n</ul>\n<span style="font-size: 14px\;"><span style="font-family: arial\;"><strong>MILLVILLE BOARDWALK&nbsp\;</strong></span></span><br />\n<em style="font-family: arial\; font-size: 14px\;">20% of proceeds will go toward the Selbyville Public Library.&nbsp\;</em><br />\n<span style="font-size: 14px\;"><span style="font-family: arial\;">&nbsp\;&nbsp\;<br />\n<span color="#1d2129" face="system-ui\, -apple-system\, BlinkMacSystemFont\, .SFNSText-Regular\, sans-serif" font=""><span style="caret-color: rgb(29\, 33\, 41)\;"><strong>Parking&nbsp\;</strong>will be available at&nbsp\;</span></span></span></span>&nbsp\;McCarthy&#39\;s Stone Yard adjacent to Millville Boardwalk.<br />\n<br />\n<span style="font-family: arial\;"><span color="#1d2129" face="system-ui\, -apple-system\, BlinkMacSystemFont\, .SFNSText-Regular\, sans-serif" font="" style="font-size: 14px\;"><span style="caret-color: rgb(29\, 33\, 41)\;">At this event\, the Bethany-Fenwick Area Chamber of Commerce will present a silent auction check&nbsp\; to each of the local elementary and middle school art teachers to be used for their art classrooms. Funds were raised from the Annual Bethany Beach Boardwalk Arts Festival.</span></span></span><br />\n&nbsp\;\n<hr /><br />\n<span style="font-family: arial\;"><span style="font-size: 14px\;"><strong>Interested in hosting a networking event\, or learning how you can become a member spotlight at future Business After Hours? </strong>Contact us at membership@thequietresorts.com or 302-539-2100.</span></span>
LOCATION:Millville Boardwalk 35287 Atlantic Ave Millville\, DE 19967
UID:e.2126.22693
SEQUENCE:3
DTSTAMP:20260424T135452Z
URL:http://business.thequietresorts.com/events/details/family-night-out-at-millville-boardwalk-22693
END:VEVENT

END:VCALENDAR
