BEGIN:VCALENDAR
VERSION:2.0
PRODID:-//ChamberMaster//Event Calendar 2.0//EN
METHOD:PUBLISH
X-PUBLISHED-TTL:P3D
REFRESH-INTERVAL:P3D
CALSCALE:GREGORIAN
BEGIN:VEVENT
DTSTART:20200411T140000Z
DTEND:20200411T160000Z
X-MICROSOFT-CDO-ALLDAYEVENT:FALSE
SUMMARY:Family Easter Celebration
DESCRIPTION:Please join us for this Family Fun Community Easter Celebration! This is a FREE event and fun for all ages. Bring the kids and enjoy a variety of fun activities: CRAFTS GAMES INTERACTIVE BIBLE STORIES SNACKS AGE DIVIDED EGG HUNTS All self-guided stations so you can pick and choose how to spend your time. We hope to see you there!
X-ALT-DESC;FMTTYPE=text/html:<span style="font-size: 14px\;"><span style="font-family: arial\;">Please join us for this Family Fun Community Easter Celebration! This is a FREE event and fun for all ages. Bring the kids and enjoy a variety of fun activities: CRAFTS GAMES INTERACTIVE BIBLE STORIES SNACKS AGE DIVIDED EGG HUNTS All self-guided stations so you can pick and choose how to spend your time. We hope to see you there!</span></span>
LOCATION:Mariners Bethel UMC 81 Central Avenue Ocean View\, DE 19970
UID:e.2126.20273
SEQUENCE:3
DTSTAMP:20260425T212229Z
URL:http://business.thequietresorts.com/events/details/family-easter-celebration-20273
END:VEVENT

END:VCALENDAR
