BEGIN:VCALENDAR
VERSION:2.0
PRODID:-//ChamberMaster//Event Calendar 2.0//EN
METHOD:PUBLISH
X-PUBLISHED-TTL:P3D
REFRESH-INTERVAL:P3D
CALSCALE:GREGORIAN
BEGIN:VEVENT
DTSTART:20221013T150000Z
DTEND:20221014T040000Z
X-MICROSOFT-CDO-ALLDAYEVENT:FALSE
SUMMARY:Fall Tree Identification Tour at Delaware Botanic Gardens
DESCRIPTION:Join DBG Docent\, certified naturalist\, and tree expert Elizabeth Rives. She teaches you her popular tricks for learning tree identification in a holistic way. Sharing the fascinating ecology of the shoreline woodlands. Learn how to identify native trees and scrubs using characteristics like leaves\, bark\, twigs and fall color.
X-ALT-DESC;FMTTYPE=text/html:Join DBG Docent\, certified naturalist\, and tree expert Elizabeth Rives. She teaches you her popular tricks for learning tree identification in a holistic way. Sharing the fascinating ecology of the shoreline woodlands. Learn how to identify native trees and scrubs using characteristics like leaves\, bark\, twigs and fall color.
LOCATION:Delaware Botanic Gardens\, 30220 Piney Neck Road\, Dagsboro\, DE 19939
UID:e.2126.24195
SEQUENCE:3
DTSTAMP:20260421T173018Z
URL:http://business.thequietresorts.com/events/details/fall-tree-identification-tour-at-delaware-botanic-gardens-24195
END:VEVENT

END:VCALENDAR
