BEGIN:VCALENDAR
VERSION:2.0
PRODID:-//ChamberMaster//Event Calendar 2.0//EN
METHOD:PUBLISH
X-PUBLISHED-TTL:P3D
REFRESH-INTERVAL:P3D
CALSCALE:GREGORIAN
BEGIN:VEVENT
DTSTART:20230909T140000Z
DTEND:20230909T160000Z
X-MICROSOFT-CDO-ALLDAYEVENT:FALSE
SUMMARY:Fall Planter Class at Lord's Landscaping
DESCRIPTION:Come out to Lord's Lanscaping on Saturday\, September 9th\, to make your own fall planter!  You can bring your own pot or buy one onsite.\n\n\n\nClick here to reserve your spot.
X-ALT-DESC;FMTTYPE=text/html:Come out to Lord&#39\;s Lanscaping on Saturday\, September 9th\, to make your own fall planter!&nbsp\; You can bring your own pot or buy one onsite.<br />\n<br />\n<a href="https://www.eventbrite.com/e/fall-favorites-planter-class-tickets-712124071267?aff=erelexpmlt">Click here</a> to reserve your spot.&nbsp\;
LOCATION:Lord's Landscaping 35577 Atlantic Ave. Millville\, DE 19967
UID:e.2126.26669
SEQUENCE:3
DTSTAMP:20260420T195540Z
URL:http://business.thequietresorts.com/events/details/fall-planter-class-at-lord-s-landscaping-26669
END:VEVENT

END:VCALENDAR
