BEGIN:VCALENDAR
VERSION:2.0
PRODID:-//ChamberMaster//Event Calendar 2.0//EN
METHOD:PUBLISH
X-PUBLISHED-TTL:P3D
REFRESH-INTERVAL:P3D
CALSCALE:GREGORIAN
BEGIN:VEVENT
DTSTART:20221002T180000Z
DTEND:20221002T190000Z
X-MICROSOFT-CDO-ALLDAYEVENT:FALSE
SUMMARY:Fall Gardening for Wildlife Tour at Delware Botanic Gardens
DESCRIPTION:Tour of Piet Oudolf Meadow Garden\, given by Stephen Pryce Lea\, Director of Horticulture. Discuss garden maintenance and Piet's favorite plants\, essential for providing wildlife with food and habitat. Prepare for the 5th season.
X-ALT-DESC;FMTTYPE=text/html:<span style="background-color:rgb(250\, 250\, 250)\; color:rgb(66\, 66\, 66)\; font-family:arial\,helvetica\,sans-serif\; font-size:12px">Tour of Piet Oudolf Meadow Garden\, given by Stephen Pryce Lea\, Director of Horticulture. Discuss garden maintenance and Piet&#39\;s favorite plants\, essential for providing wildlife with food and habitat. Prepare for the 5th season.&nbsp\;</span>
LOCATION:Delaware Botanic Gardens\, 30220 Piney Neck Road\, Dagsboro\, DE 19939
UID:e.2126.24194
SEQUENCE:3
DTSTAMP:20260421T173349Z
URL:http://business.thequietresorts.com/events/details/fall-gardening-for-wildlife-tour-at-delware-botanic-gardens-10-02-2022-24194
END:VEVENT

END:VCALENDAR
