BEGIN:VCALENDAR
VERSION:2.0
PRODID:-//ChamberMaster//Event Calendar 2.0//EN
METHOD:PUBLISH
X-PUBLISHED-TTL:P3D
REFRESH-INTERVAL:P3D
CALSCALE:GREGORIAN
BEGIN:VEVENT
DTSTART:20231007T140000Z
DTEND:20231007T170000Z
X-MICROSOFT-CDO-ALLDAYEVENT:FALSE
SUMMARY:Fall Fun Day at Lord Baltimore Playground
DESCRIPTION:Please join Lord Baltimore Elementary PTO for Fall Fun Day on October 7th from 10am-1pm at the Lord Baltimore playground and field.\n\n\n\nWe'll have SmashMouth burgers\, Ritas\, a bounce house\, fall games\, face painting\, and more. Each activity will require tickets: $2 for 1 or $8 for 5. Proceeds go back to the LBEPTO and school SRO.
X-ALT-DESC;FMTTYPE=text/html:Please join Lord Baltimore Elementary PTO for Fall Fun Day on October 7th from 10am-1pm at the Lord Baltimore playground and field.<br />\n<br />\nWe&#39\;ll have SmashMouth burgers\, Ritas\, a bounce house\, fall games\, face painting\, and more. Each activity will require tickets: $2 for 1 or $8 for 5. Proceeds go back to the LBEPTO and school SRO.
LOCATION:Lord Baltimore Elementary School 120 Atlantic Ave. Ocean View\, DE 19970
UID:e.2126.27003
SEQUENCE:3
DTSTAMP:20260420T182817Z
URL:http://business.thequietresorts.com/events/details/fall-fun-day-at-lord-baltimore-playground-27003
END:VEVENT

END:VCALENDAR
