BEGIN:VCALENDAR
VERSION:2.0
PRODID:-//ChamberMaster//Event Calendar 2.0//EN
METHOD:PUBLISH
X-PUBLISHED-TTL:P3D
REFRESH-INTERVAL:P3D
CALSCALE:GREGORIAN
BEGIN:VEVENT
DTSTART:20231111T140000Z
DTEND:20231111T180000Z
X-MICROSOFT-CDO-ALLDAYEVENT:FALSE
SUMMARY:Fall Arts & Craft Fair at the Parish of St. Ann
DESCRIPTION:Join us in Delaney Hall for our Fall Arts & Craft Fair. \n\n\n\nWe are featuring numerous talented artisans and crafters specializing in pottery\, jewelry\, holiday\, stained glass\, carved wood\, needlework\, photography\, and more.\n\n\n\nWe will also have a bake sale\, food\, and cash raffle.
X-ALT-DESC;FMTTYPE=text/html:Join us in Delaney Hall for our Fall Arts &amp\; Craft Fair.&nbsp\;<br />\n<br />\nWe are featuring numerous talented artisans and crafters specializing in pottery\, jewelry\, holiday\, stained glass\, carved wood\, needlework\, photography\, and more.<br />\n<br />\nWe will also have a bake sale\, food\, and cash raffle.
LOCATION:Delaney Hall 691 Garfield Pkwy. Bethany Beach\, DE 19930
UID:e.2126.27127
SEQUENCE:3
DTSTAMP:20260420T165911Z
URL:http://business.thequietresorts.com/events/details/fall-arts-craft-fair-at-the-parish-of-st-ann-27127
END:VEVENT

END:VCALENDAR
