BEGIN:VCALENDAR
VERSION:2.0
PRODID:-//ChamberMaster//Event Calendar 2.0//EN
METHOD:PUBLISH
X-PUBLISHED-TTL:P3D
REFRESH-INTERVAL:P3D
CALSCALE:GREGORIAN
BEGIN:VEVENT
DTSTART:20240318T213000Z
DTEND:20240318T223000Z
X-MICROSOFT-CDO-ALLDAYEVENT:FALSE
SUMMARY:FAFSA Information Session at Georgetown Public Library
DESCRIPTION:Georgetown Public Library and University of Delaware Cooperative Extension will be providing 2 loaded sessions to help prepare for federal student aid. \n\nIn this session\, you will be provided answers to the following questions: What is the FAFSA? Who should apply for the federal student aid? What if I have low grades? What information do I need to complete the application? Do I need to apply if my family earns too much income?\n\nChoose one session or attend both!\n\nSession One Monday\, March 18\, 2024 5:30 pm to 6:30 pm\n\nSession Two Tuesday\, March 26\, 2024 5:30 pm to 6:30 pm\n\nFor more information\, contact: Kelly Sipple\, Financial Well-being Agent University of Delaware Cooperative Extension 302-233-3539 or kasipple@udel.edu
X-ALT-DESC;FMTTYPE=text/html:<p><span style="font-size:16px">Georgetown Public Library and University of Delaware Cooperative Extension will be providing 2 loaded sessions to help prepare for federal student aid. </span></p>\n\n<p><span style="font-size:16px">In this session\, you will be provided answers to the following questions: What is the FAFSA? Who should apply for the federal student aid? What if I have low grades? What information do I need to complete the application? Do I need to apply if my family earns too much income?</span></p>\n\n<p><span style="font-size:16px">Choose one session or attend both!</span></p>\n\n<p><span style="font-size:16px">Session One Monday\, March 18\, 2024 5:30 pm to 6:30 pm</span></p>\n\n<p><span style="font-size:16px">Session Two Tuesday\, March 26\, 2024 5:30 pm to 6:30 pm</span></p>\n\n<p><span style="font-size:16px">For more information\, contact: Kelly Sipple\, Financial Well-being Agent University of Delaware Cooperative Extension 302-233-3539 or kasipple@udel.edu</span></p>\n
LOCATION:Georgetown Public Library 123 West Pine St. Georgetown\, DE 19947
UID:e.2126.28273
SEQUENCE:3
DTSTAMP:20260420T073122Z
URL:http://business.thequietresorts.com/events/details/fafsa-information-session-at-georgetown-public-library-28273
END:VEVENT

END:VCALENDAR
