BEGIN:VCALENDAR
VERSION:2.0
PRODID:-//ChamberMaster//Event Calendar 2.0//EN
METHOD:PUBLISH
X-PUBLISHED-TTL:P3D
REFRESH-INTERVAL:P3D
CALSCALE:GREGORIAN
BEGIN:VEVENT
DTSTART:20240614T190000Z
DTEND:20240614T203000Z
X-MICROSOFT-CDO-ALLDAYEVENT:FALSE
SUMMARY:Factory Sports Frankford Location Grand Opening Ribbon Cutting
DESCRIPTION:Join the Bethany-Fenwick Area Chamber of Commerce on Friday\, June 14th\, to celebrate the grand opening of Factory Sports new location in Frankford with a ribbon cutting ceremony!  Factory Sports will be running a free night of fun for kids\, with games\, gifts\, ice cream\, and entertainment\, from 3:00 - 8:00PM!  The ribbon cutting will be held at 4:00PM. \n\n\n\nBring the family to kick off Father's Day weekend with Factory Sports\, and see all that this brand new facility is bringing to Frankford.  At 22\,500 sq. ft.\, the facility includes two indoor basketball courts\, six indoor pickleball courts\, two indoor volleyball courts\, an artificial turf field\, and a dedicated athletic training space!
X-ALT-DESC;FMTTYPE=text/html:Join the Bethany-Fenwick Area Chamber of Commerce on Friday\, June 14th\, to celebrate the grand opening of Factory Sports new location in Frankford with a ribbon cutting ceremony!&nbsp\; Factory Sports will be running a free night of fun for kids\, with games\, gifts\, ice cream\, and entertainment\, from 3:00 - 8:00PM!&nbsp\; The ribbon cutting will be held at 4:00PM.&nbsp\;<br />\n<br />\nBring the family to kick off Father&#39\;s Day weekend with Factory Sports\, and see all that this brand new facility is bringing to Frankford.&nbsp\; At 22\,500 sq. ft.\, the facility includes two indoor basketball courts\, six indoor pickleball courts\, two indoor volleyball courts\, an artificial turf field\, and a dedicated athletic training space!
LOCATION:Factory Sports - Frankford 34545 Dupont Blvd. Unit 6 Building F Frankford\, DE 19945
UID:e.2126.30117
SEQUENCE:3
DTSTAMP:20260420T092856Z
URL:http://business.thequietresorts.com/events/details/factory-sports-frankford-location-grand-opening-ribbon-cutting-30117
END:VEVENT

END:VCALENDAR
