BEGIN:VCALENDAR
VERSION:2.0
PRODID:-//ChamberMaster//Event Calendar 2.0//EN
METHOD:PUBLISH
X-PUBLISHED-TTL:P3D
REFRESH-INTERVAL:P3D
CALSCALE:GREGORIAN
BEGIN:VEVENT
DTSTART:20240507T210000Z
DTEND:20240507T230000Z
X-MICROSOFT-CDO-ALLDAYEVENT:FALSE
SUMMARY:Explore the Trades with Seaside Plumbing
DESCRIPTION:Come out and learn about a career in the skilled trades of Plumbing\, Electrical or HVAC.\n\n \nLearn about what a career in the skilled trades would look like and talk with technicians\, apprentices\, and van tours for ALL three trades. You will also have a chance to see the plumbing skills lab and enjoy food\, games\, and prizes\,
X-ALT-DESC;FMTTYPE=text/html:<span style="font-size:12px\;"><span style="font-family:arial\;">Come out and learn about a career in the skilled trades of Plumbing\, Electrical or HVAC.</span></span><br />\n&nbsp\;\n<div style="margin-left:0in\;"><span style="font-size:12px\;"><span style="font-family:arial\;">Learn about what a career in the skilled trades would look like and talk with&nbsp\;technicians\, apprentices\, and van tours for ALL three trades.&nbsp\;You will also have a chance to see the plumbing skills lab and enjoy&nbsp\;</span></span><span style="font-family: arial\; font-size: 12px\;">food\, games\, and prizes\,&nbsp\;</span></div>\n
LOCATION:Seaside Plumbing 10545 Friendship Rd. Berlin\, MD 21811
UID:e.2126.28674
SEQUENCE:3
DTSTAMP:20260420T042033Z
URL:http://business.thequietresorts.com/events/details/explore-the-trades-with-seaside-plumbing-28674
END:VEVENT

END:VCALENDAR
