BEGIN:VCALENDAR
VERSION:2.0
PRODID:-//ChamberMaster//Event Calendar 2.0//EN
METHOD:PUBLISH
X-PUBLISHED-TTL:P3D
REFRESH-INTERVAL:P3D
CALSCALE:GREGORIAN
BEGIN:VEVENT
DTSTART:20200415T213000Z
DTEND:20200415T223000Z
X-MICROSOFT-CDO-ALLDAYEVENT:FALSE
SUMMARY:Estate Planning Webinar
DESCRIPTION:Join us for a complimentary webinar discussing estate planning tools that families can consider using to organize their affairs. This conversation will cover important estate planning documents like the Advance Health Care Directive\, Power of Attorney and Revocable Living Trust.\n\n\n\nThis is free to attend and registration is required. To register\, please click here.
X-ALT-DESC;FMTTYPE=text/html:<span style="font-family: arial\;"><span style="font-size: 14px\;">Join us for a complimentary webinar discussing estate planning tools that families can consider using to organize their affairs. This conversation will cover important estate planning documents like the Advance Health Care Directive\, Power of Attorney and Revocable Living Trust.<br />\n<br />\nThis is free to attend and registration is required. To register\, please <a href="https://register.gotowebinar.com/register/7316518014171154443" target="_blank">click here</a>.</span></span>
LOCATION:
UID:e.2126.21503
SEQUENCE:3
DTSTAMP:20260425T225124Z
URL:http://business.thequietresorts.com/events/details/estate-planning-webinar-21503
END:VEVENT

END:VCALENDAR
