BEGIN:VCALENDAR
VERSION:2.0
PRODID:-//ChamberMaster//Event Calendar 2.0//EN
METHOD:PUBLISH
X-PUBLISHED-TTL:P3D
REFRESH-INTERVAL:P3D
CALSCALE:GREGORIAN
BEGIN:VEVENT
DTSTART:20220607T140000Z
DTEND:20220607T164500Z
X-MICROSOFT-CDO-ALLDAYEVENT:FALSE
SUMMARY:End-of-Session Policy Conference
DESCRIPTION:We find ourselves at a pivotal time when it comes to policy decisions that affect the future of Delaware's business climate and workforce. After two years of economic stress and uncertainty\, the time is now for policymakers to make decisions that accelerate recovery and growth\, not hinder them.\n\n \n\nAs in years past\, we will also hear from the Senate President Pro Tempore\, David Sokola\, and Speaker of the House\, Peter Schwartzkopf\, who will discuss the current state of affairs in the 151st General Assembly as we near the end of the legislative session.\n\n \n\nThe time is now for Delaware to continue positioning itself as a regional leader for business climate join the conversation on June 7. To register for the conference\, please click here.\n\n\n\nSpeakers\n\n	William Denny\, Partner: Potter Anderson & Corroon LLP\n	\n		Topic: Consumer Protection\n	\n	\n	Kurt Foreman\, President & CEO: Delaware Prosperity Partnership\n	\n		 Topic: Ready In 6 & Site Readiness\n	\n	\n	Bryon Short\, Executive Director: Delaware Contractors Association\n	\n		 Topic: Workforce Development\n	\n	\n	Peter Schwartzkopf\, Speaker of the House\, & David Sokola\, Senate President Pro Tempore\n	\n		 Topic: Top Issues before the General Assembly
X-ALT-DESC;FMTTYPE=text/html:<span style="font-size:14px\;"><span style="font-family:arial\;"><strong><span style="color:#403F42\;">We find ourselves at a pivotal time when it comes to policy decisions that affect the future of Delaware&#39\;s business climate and workforce. </span></strong><span style="color:#403F42\;">After two years of economic stress and uncertainty\, the time is now for policymakers to make decisions that accelerate recovery and growth\, not hinder them.</span><br />\n&nbsp\;<br />\n<span style="color:#403F42\;">As in years past\, we will also hear from the Senate President Pro Tempore\, David Sokola\, and Speaker of the House\, Peter Schwartzkopf\, who will discuss the current state of affairs in the 151st General Assembly as we near the end of the legislative session.</span><br />\n&nbsp\;<br />\n<span style="color:#403F42\;">The time is now for Delaware to continue positioning itself as a regional leader for business climate&mdash\;join the conversation on June 7. To register for the conference\, please <a href="https://web.dscc.com//events/End-of-Session-Policy-Conference-2798/details" target="_blank">click here</a>.<br />\n<br />\nSpeakers</span></span></span>\n<ul>\n	<li><span style="font-size:14px\;"><span style="font-family:arial\;"><span style="color:#403F42\;">William Denny\, Partner:&nbsp\;Potter Anderson &amp\; Corroon LLP</span></span></span>\n	<ul>\n		<li><span style="font-size:14px\;"><span style="font-family:arial\;"><span style="color:#403F42\;">Topic: Consumer Protection</span></span></span></li>\n	</ul>\n	</li>\n	<li><span style="font-size:14px\;"><span style="font-family:arial\;"><span style="color:#403F42\;">Kurt Foreman\, President &amp\; CEO: Delaware Prosperity Partnership</span></span></span>\n	<ul>\n		<li><span style="font-size:14px\;"><span style="font-family:arial\;"><span style="color:#403F42\;">&#8203\;Topic: Ready In 6 &amp\; Site Readiness</span></span></span></li>\n	</ul>\n	</li>\n	<li><span style="font-size:14px\;"><span style="font-family:arial\;"><span style="color:#403F42\;">Bryon Short\, Executive Director: Delaware Contractors Association</span></span></span>\n	<ul>\n		<li><span style="font-size:14px\;"><span style="font-family:arial\;"><span style="color:#403F42\;">&#8203\;Topic: Workforce Development</span></span></span></li>\n	</ul>\n	</li>\n	<li><span style="font-size:14px\;"><span style="font-family:arial\;"><span style="color:#403F42\;">Peter Schwartzkopf\, Speaker of the House\, &amp\; David Sokola\, Senate President Pro Tempore</span></span></span>\n	<ul>\n		<li><span style="font-size:14px\;"><span style="font-family:arial\;"><span style="color:#403F42\;">&#8203\;Topic: Top Issues before the General Assembly</span></span></span></li>\n	</ul>\n	</li>\n</ul>\n
LOCATION:Delaware State University 1200 N. DuPont Highway Dover\, DE 19901
UID:e.2126.23668
SEQUENCE:3
DTSTAMP:20260421T222907Z
URL:http://business.thequietresorts.com/events/details/end-of-session-policy-conference-23668
END:VEVENT

END:VCALENDAR
