BEGIN:VCALENDAR
VERSION:2.0
PRODID:-//ChamberMaster//Event Calendar 2.0//EN
METHOD:PUBLISH
X-PUBLISHED-TTL:P3D
REFRESH-INTERVAL:P3D
CALSCALE:GREGORIAN
BEGIN:VEVENT
DTSTART:20231005T183000Z
DTEND:20231005T200000Z
X-MICROSOFT-CDO-ALLDAYEVENT:FALSE
SUMMARY:EMAIL MARKETING & CRMS WORKSHOP BY SBDC
DESCRIPTION:Please join the Delaware SBDC for this hands-on\, virtual workshop\, supporting entrepreneurs looking to sharpen their applied marketing skills by working with SBDC Advisor Caroline Hermance\, on targeted creative projects - not just learning a few best practices\, but actually sitting down and creating with the help of an industry expert.\n\n\n\nTopics covered include:\n\n  Importance of Email in Client Acquisition\n\n  Tactics for Effective Email Marketing\n\n  Email Platforms: Mailchimp\, Constant Contact\n\n  How to Build & Maintain an Email List\n\n  How to Use CRM Data effectively in email campaigns\n\n\n\nRegister HERE.
X-ALT-DESC;FMTTYPE=text/html:<span style="color: rgb(102\, 102\, 102)\; font-family: &quot\;open sans&quot\;\, Helvetica\, Arial\, sans-serif\; font-size: 16px\;">Please join the Delaware SBDC for this hands-on\, virtual workshop\, supporting entrepreneurs looking to sharpen their applied marketing skills by working with SBDC Advisor Caroline Hermance\, on targeted creative projects - not just learning a few best practices\, but actually sitting down and creating with the help of an industry expert.<br />\n<br />\nTopics covered include:<br />\n&bull\; Importance of Email in Client Acquisition</span><br style="box-sizing: border-box\; color: rgb(102\, 102\, 102)\; font-family: &quot\;open sans&quot\;\, Helvetica\, Arial\, sans-serif\; font-size: 16px\;" />\n<span style="color: rgb(102\, 102\, 102)\; font-family: &quot\;open sans&quot\;\, Helvetica\, Arial\, sans-serif\; font-size: 16px\;">&bull\; Tactics for Effective Email Marketing</span><br style="box-sizing: border-box\; color: rgb(102\, 102\, 102)\; font-family: &quot\;open sans&quot\;\, Helvetica\, Arial\, sans-serif\; font-size: 16px\;" />\n<span style="color: rgb(102\, 102\, 102)\; font-family: &quot\;open sans&quot\;\, Helvetica\, Arial\, sans-serif\; font-size: 16px\;">&bull\; Email Platforms: Mailchimp\, Constant Contact</span><br style="box-sizing: border-box\; color: rgb(102\, 102\, 102)\; font-family: &quot\;open sans&quot\;\, Helvetica\, Arial\, sans-serif\; font-size: 16px\;" />\n<span style="color: rgb(102\, 102\, 102)\; font-family: &quot\;open sans&quot\;\, Helvetica\, Arial\, sans-serif\; font-size: 16px\;">&bull\; How to Build &amp\; Maintain an Email List</span><br style="box-sizing: border-box\; color: rgb(102\, 102\, 102)\; font-family: &quot\;open sans&quot\;\, Helvetica\, Arial\, sans-serif\; font-size: 16px\;" />\n<span style="color: rgb(102\, 102\, 102)\; font-family: &quot\;open sans&quot\;\, Helvetica\, Arial\, sans-serif\; font-size: 16px\;">&bull\; How to Use CRM Data effectively in email campaigns<br />\n<br />\nRegister <a href="https://clients.delawaresbdc.org/reg.aspx?mode=event&amp\;event=10430042">HERE</a>.</span>
LOCATION:Online
UID:e.2126.26910
SEQUENCE:3
DTSTAMP:20260420T181221Z
URL:http://business.thequietresorts.com/events/details/email-marketing-crms-workshop-by-sbdc-26910
END:VEVENT

END:VCALENDAR
