BEGIN:VCALENDAR
VERSION:2.0
PRODID:-//ChamberMaster//Event Calendar 2.0//EN
METHOD:PUBLISH
X-PUBLISHED-TTL:P3D
REFRESH-INTERVAL:P3D
CALSCALE:GREGORIAN
BEGIN:VEVENT
DTSTART:20240619T230000Z
DTEND:20240620T020000Z
X-MICROSOFT-CDO-ALLDAYEVENT:FALSE
SUMMARY:Elevate Vocal Arts presents Afro Beats at Freeman Performing Arts
DESCRIPTION:ADMISSION: FREE\n\nElevate Vocal Arts (EVA) is excited to present "Afro Beats\," a Juneteenth celebration of vocal music by Black composers! June is African American Music Appreciation Month\, and this event will feature select members of Delaware's own Elevation ensemble   in conjunction with EVA's Summer Institute   who will offer a variety of songs of joy\, hope\, faith\, and resilience represented widely throughout the Black musical spectrum. This 90-minute concert will inspire and challenge the listener toward a greater appreciation for Black music through ensemble and solo songs\, spoken word recitations\, and more!
X-ALT-DESC;FMTTYPE=text/html:<h6>ADMISSION: FREE</h6>\n\n<p>Elevate Vocal Arts (EVA) is excited to present &quot\;Afro Beats\,&quot\; a Juneteenth celebration of vocal music by Black composers! June is African American Music Appreciation Month\, and this event will feature select members of Delaware&#39\;s own&nbsp\;<strong>Elevation</strong>&nbsp\;ensemble &mdash\; in conjunction with EVA&#39\;s Summer Institute &mdash\; who will offer a variety of songs of joy\, hope\, faith\, and resilience represented widely throughout the Black musical spectrum. This 90-minute concert will inspire&nbsp\;and challenge the listener toward a greater appreciation for Black music through ensemble and solo songs\, spoken word recitations\, and more!</p>\n
LOCATION:Freeman Arts Pavilion 31806 Lakeview Drive Selbyville\, DE 19975
UID:e.2126.28632
SEQUENCE:3
DTSTAMP:20260420T090842Z
URL:http://business.thequietresorts.com/events/details/elevate-vocal-arts-presents-afro-beats-at-freeman-performing-arts-28632
END:VEVENT

END:VCALENDAR
