BEGIN:VCALENDAR
VERSION:2.0
PRODID:-//ChamberMaster//Event Calendar 2.0//EN
METHOD:PUBLISH
X-PUBLISHED-TTL:P3D
REFRESH-INTERVAL:P3D
CALSCALE:GREGORIAN
BEGIN:VEVENT
DTSTART:20220302T170000Z
DTEND:20220302T180000Z
X-MICROSOFT-CDO-ALLDAYEVENT:FALSE
SUMMARY:Economic Development Lunch
DESCRIPTION:Senator Sarah McBride\n\nDelaware State Senate\n\n\n\nWant to learn more about Family Leave Legislation?  \n\n\n\nJoin us to hear what the sponsor of SB 1 has to say and how it will impact businesses in Delaware.\n\nThere is much at stake for small businesses\, regardless of size and now is the time to hear and ask questions about something that will have a MAJOR impact on all businesses in Delaware.
X-ALT-DESC;FMTTYPE=text/html:Senator Sarah McBride<br />\nDelaware State Senate<br />\n<br />\nWant to learn more about Family Leave Legislation?&nbsp\;&nbsp\;<br />\n<br />\nJoin us to hear what the sponsor of SB 1 has to say and how it will impact businesses in Delaware.<br />\nThere is much at stake for small businesses\, regardless of size and now is the time to hear and ask questions about something that will have a MAJOR impact on all businesses in Delaware.&nbsp\;&nbsp\;
LOCATION:Community Action 308 N Railroad Avenue Georgetown\, DE
UID:e.2126.23500
SEQUENCE:3
DTSTAMP:20260424T052845Z
URL:http://business.thequietresorts.com/events/details/economic-development-lunch-23500
END:VEVENT

END:VCALENDAR
