BEGIN:VCALENDAR
VERSION:2.0
PRODID:-//ChamberMaster//Event Calendar 2.0//EN
METHOD:PUBLISH
X-PUBLISHED-TTL:P3D
REFRESH-INTERVAL:P3D
CALSCALE:GREGORIAN
BEGIN:VEVENT
DTSTART:20210330T120000Z
DTEND:20210330T160000Z
X-MICROSOFT-CDO-ALLDAYEVENT:FALSE
SUMMARY:Easter For Thousands
DESCRIPTION:Following the safe execution of our annual Thanksgiving for Thousands and Christmas for Thousands in 2020\, Mountaire Farms is excited to announce that we will continue our tradition of packing meal boxes for families in need this Easter holiday. Please join us and help us reach our goal of 3000 boxes.\n\n\n\nThis event will look a little different this year as a result of the measures we are taking to honor social distancing protocols and keep our volunteers and our community safe.\n\n\n\nEach box is packed in an assembly line fashion. This year we will be introducing a NEW "Spring" menu which includes corn\, peas & carrots\, yams\, apple sauce\, mashed potatoes\, gravy and brownie mix\, and of course... a Mountaire roaster.\n\n\n\nIf you are interested in volunteering\, please click here. We encourage groups to volunteer to make this a fun way to give back as a team!
X-ALT-DESC;FMTTYPE=text/html:<span style="font-family:arial\;"><span style="font-size:14px\;">Following the safe execution of our annual Thanksgiving for Thousands and Christmas for Thousands in 2020\, Mountaire Farms is excited to announce that we will continue our tradition of packing meal boxes for families in need this Easter holiday. Please join us and help us reach our goal of <strong>3000 boxes</strong>.<br />\n<br />\nThis event will look a little different this year as a result of the measures we are taking to honor social distancing protocols and keep our volunteers and our community safe.<br />\n<br />\nEach box is packed in an assembly line fashion. This year we will be introducing a NEW &quot\;Spring&quot\; menu which includes corn\, peas &amp\; carrots\, yams\, apple sauce\, mashed potatoes\, gravy and brownie mix\, and of course... a Mountaire roaster.<br />\n<br />\nIf you are interested in volunteering\, please <strong><a href="https://www.signupgenius.com/go/eft2021" target="_blank">click here</a></strong>.&nbsp\;<strong>We encourage groups to volunteer to make this a fun way to give back as a team!</strong></span></span><br />\n&nbsp\;
LOCATION:Mountaire Farms 55 Hosier St Selbyville\, DE 19975
UID:e.2126.21950
SEQUENCE:3
DTSTAMP:20260424T235922Z
URL:http://business.thequietresorts.com/events/details/easter-for-thousands-21950
END:VEVENT

END:VCALENDAR
