BEGIN:VCALENDAR
VERSION:2.0
PRODID:-//ChamberMaster//Event Calendar 2.0//EN
METHOD:PUBLISH
X-PUBLISHED-TTL:P3D
REFRESH-INTERVAL:P3D
CALSCALE:GREGORIAN
BEGIN:VEVENT
DTSTART:20240331T170000Z
DTEND:20240401T000000Z
X-MICROSOFT-CDO-ALLDAYEVENT:FALSE
SUMMARY:Easter Dinner Special at The Salted Rim
DESCRIPTION:Easter Dinner Special\n\nSunday\, March 31\, 2024\n\n1:00pm - 8:00pm\n\n\n\nCHICKEN & DUMPLINGS\n\nEastern Shore Homemade Chicken & Slippery Dumplings\n\n\n\n$15 - All-You-Care-To-Eat\n\nKids under 8 - $8\n\n\n\n$12 Lunch Specials   11:30-4:00pm\n\n\n\nNo Doggie Bags\n\nLarge Groups\, please call ahead!
X-ALT-DESC;FMTTYPE=text/html:<h1 style="text-align:center"><span style="font-size:14px"><span style="font-family:arial"><span style="background-color:#FFFFFF"><span style="color:#FF0000"><span style="font-size:20px"><strong><em><span style="font-size:22px">Easter Dinner Special</span></em></strong></span></span></span></span></span></h1>\n\n<p style="text-align:center"><span style="font-size:14px"><span style="font-family:arial"><span style="background-color:#FFFFFF"><span style="font-size:20px"><strong><span style="color:#000000"><span style="font-size:16px">Sunday\, March 31\, 2024<br />\n1:00pm - 8:00pm</span></span></strong></span></span></span></span><br />\n<br />\n<span style="color:#0000CD"><font face="verdana"><span style="font-size:20px">CHICKEN &amp\; DUMPLINGS</span></font></span><br />\n<font face="arial\, helvetica\, sans-serif"><span style="font-size:14px">Eastern Shore Homemade Chicken &amp\; Slippery Dumplings<br />\n<br />\n<span style="font-size:18px"><span style="font-family:comic sans ms">$15 - All-You-Care-To-Eat<br />\n<span style="font-family:verdana"><span style="font-size:14px">Kids under 8 - $8<br />\n<br />\n<span style="font-size:18px">$12 Lunch Specials &bull\; 11:30-4:00pm<br />\n<br />\n<span style="font-family:tahoma"><span style="font-size:14px">No Doggie Bags<br />\nLarge Groups\, please call ahead!</span></span></span></span></span></span></span></span></font></p>\n
LOCATION:The Salted Rim Margarita Bar & Grille 35553 Atlantic Avenue\, Millville\, DE 19967 302-537-7373
UID:e.2126.28661
SEQUENCE:3
DTSTAMP:20260420T073339Z
URL:http://business.thequietresorts.com/events/details/easter-dinner-special-at-the-salted-rim-28661
END:VEVENT

END:VCALENDAR
