BEGIN:VCALENDAR
VERSION:2.0
PRODID:-//ChamberMaster//Event Calendar 2.0//EN
METHOD:PUBLISH
X-PUBLISHED-TTL:P3D
REFRESH-INTERVAL:P3D
CALSCALE:GREGORIAN
BEGIN:VEVENT
DTSTART:20220417T140000Z
DTEND:20220417T180000Z
X-MICROSOFT-CDO-ALLDAYEVENT:FALSE
SUMMARY:Easter Brunch at The Salted Rim Margarita Bar & Grille
DESCRIPTION:Easter Brunch\n\nSunday\, April 17\, 2021\n\n10:00am - 2:00pm\n\n \n\nMenu\n\nAll served with breakfast potatoes\n\nBiscuits & Sausage Gravy - $12\n\nPancakes - plain or chocolate chip - $10\n\nStrawberry Stuffed French Toast - $12\n\nFajita Burrito - scrambled eggs\, bell peppers\, onions\, choice of meat\, cheese\, pico -$12\n\nCaliente Huevos Omelette - jalapenos\, chorizo\, scrambled eggs\, and cheese\, topped with\n\nqueso & pico - $12\n\nBreakfast Bowl - potatoes\, scrambled eggs\, choice of meat\, sausage gravy\, cheese - $12\n\nCheesesteak Omelette - stuffed with Philly cheesesteak cheese & onion\, smothered in queso - $12\n\nBreakfast Burrito - scrambled eggs\, cheese\, choice of meat\, potatoes\, pico - $12\n\nCorned Beef Hash - $12\n\nOmelet Your Way - choice of cheese\, meat and veggies (up to 4 fillings) - $12\n\nBYO Breakfast Sandwich - choice of bread\, cheese\, meat\, egg style - $12\n\nEggs Your Way - 2 eggs your way\, choice of meat\, toast (white or wheat)  - $10\nCheeses:   Cheddar\, American\, Swiss\, Pepper Jack\n\nMeats:  Ham\, Bacon\, Sausage\, Scrapple\n\nVeggies:  Tomato\, Onion\, Peppers\, Mushrooms\n\nEgg Styles:  Over Easy\, Medium\, Hard\, Sunny Side-Up\, Scrambled\n\nBreads:  White\, Wheat\, Rye\, Biscuit\, English Muffin\n\n\n\n \nDrink Specials\n\nMimosa's\n\nBloody Mary's\n\nCrushes\n\nMargaritas\n\n\n\nDining is on a first come\, first serve walk-in basis only.  No reservation required.\n\n\n\nHope you will HOP in and join us for brunch!!
X-ALT-DESC;FMTTYPE=text/html:<h1 style="text-align:center"><span style="font-family:arial\;"><span style="color:#ff00ff"><span style="font-size:22px"><span style="background-color:#FFFFFF"><strong><span style="font-size:36px"><em>Easter Brunch</em></span></strong></span></span></span></span></h1>\n\n<p style="text-align:center"><span style="font-family:arial\;"><span style="font-size:14px"><span style="background-color:#FFFFFF"><span style="font-size:20px"><strong><span style="color:#000000"><span style="font-size:16px">Sunday\, April 17\, 2021</span></span></strong></span></span></span></span></p>\n\n<p style="text-align:center"><span style="font-family:arial\;"><span style="font-size:14px"><span style="background-color:#FFFFFF"><span style="font-size:20px"><strong><span style="color:#000000"><span style="font-size:16px">10:00am - 2:00pm</span></span></strong></span></span></span></span></p>\n\n<div style="text-align:center">&nbsp\;</div>\n\n<h1 style="text-align:center"><span style="font-family:arial\;"><span style="font-size:14px"><span style="color:#0000FF"><em><strong><span style="font-size:22px">Menu</span></strong></em></span><br />\nAll served with breakfast potatoes</span></span></h1>\n\n<h1><span style="font-family:arial\;"><span style="font-size:14px\;"><span style="background-color: rgb(255\, 255\, 255)\; color: rgb(51\, 51\, 51)\;"><em><strong>Biscuits &amp\; Sausage Gravy</strong></em> - $12<br />\n<em><strong>Pancakes</strong></em> - plain or chocolate chip - $10<br />\n<em><strong>Strawberry Stuffed French Toast</strong></em> - $12<br />\n<em><strong>Fajita Burrito </strong></em>- scrambled eggs\, bell peppers\, onions\, choice of&nbsp\;meat\, cheese\, pico -$12<br />\n<strong><em>Caliente Huevos Omelette</em></strong> - jalapenos\, chorizo\, scrambled eggs\,&nbsp\;and cheese\, topped with<br />\nqueso &amp\; pico - $12<br />\n<em><strong>Breakfast Bow</strong>l</em> - potatoes\, scrambled eggs\, choice of meat\,&nbsp\;sausage gravy\, cheese - $12<br />\n<em><strong>Cheesesteak Omelette</strong></em> - stuffed with Philly cheesesteak cheese &amp\;&nbsp\;onion\, smothered in queso - $12<br />\n<em><strong>Breakfast Burrito</strong></em> - scrambled eggs\, cheese\, choice of meat\,&nbsp\;potatoes\, pico - $12<br />\n<em><strong>Corned Beef Has</strong>h</em> - $12<br />\n<em><strong>Omelet Your Way</strong></em> - choice of cheese\, meat and veggies (up to 4 fillings) - $12<br />\n<em><strong>BYO Breakfast Sandwich</strong></em> - choice of bread\, cheese\, meat\,&nbsp\;egg style - $12<br />\n<em><strong>Eggs Your Way</strong></em> - 2 eggs your way\, choice of meat\, toast (white or wheat)&nbsp\; - $10</span></span></span></h1>\n<span style="font-family:arial\;"><span style="font-size:14px\;"><strong>Cheeses:&nbsp\; &nbsp\;</strong>Cheddar\, American\, Swiss\, Pepper Jack<br />\n<strong>Meats:&nbsp\;&nbsp\;</strong>Ham\, Bacon\, Sausage\, Scrapple<br />\n<strong>Veggies:&nbsp\;&nbsp\;</strong>Tomato\, Onion\, Peppers\, Mushrooms<br />\n<strong>Egg Styles:&nbsp\;&nbsp\;</strong>Over Easy\, Medium\, Hard\, Sunny Side-Up\, Scrambled<br />\n<strong>Breads:&nbsp\;&nbsp\;</strong>White\, Wheat\, Rye\, Biscuit\, English Muffin</span></span><br />\n<br />\n&nbsp\;\n<h1 style="text-align:center"><span style="font-family:arial\;"><span style="font-size:22px"><strong><em>Drink Specials</em></strong></span></span></h1>\n\n<div style="text-align:center"><span style="font-family:arial\;"><span style="font-size:18px"><strong>Mimosa&#39\;s<br />\nBloody Mary&#39\;s<br />\nCrushes</strong></span></span></div>\n\n<div style="text-align:center"><span style="font-family:arial\;"><span style="font-size:18px"><strong>Margaritas</strong></span></span></div>\n\n<p style="text-align:center"><br />\n<span style="font-family:arial\;"><span style="font-size:14px\;"><em>Dining is on a first come\, first serve walk-in basis only.&nbsp\; No reservation required.</em></span><br />\n<br />\n<span style="font-size:18px"><strong><span style="color:#FF0000">Hope you will HOP in and join us for brunch!!</span></strong></span></span><br />\n&nbsp\;</p>\n
LOCATION:The Salted Rim Margarita Bar & Grille 35553 Atlantic Avenue Millville\, DE 19967 302-537-7373 saltedrimde.com
UID:e.2126.23618
SEQUENCE:3
DTSTAMP:20260422T020143Z
URL:http://business.thequietresorts.com/events/details/easter-brunch-at-the-salted-rim-margarita-bar-grille-23618
END:VEVENT

END:VCALENDAR
