BEGIN:VCALENDAR
VERSION:2.0
PRODID:-//ChamberMaster//Event Calendar 2.0//EN
METHOD:PUBLISH
X-PUBLISHED-TTL:P3D
REFRESH-INTERVAL:P3D
CALSCALE:GREGORIAN
BEGIN:VEVENT
DTSTART:20210404T140000Z
DTEND:20210404T190000Z
X-MICROSOFT-CDO-ALLDAYEVENT:FALSE
SUMMARY:Easter Brunch at The Salted Rim
DESCRIPTION:Easter Brunch\n\nSunday\, April 4\, 2021\n\n10:00am - 3:00pm\n\n \n\nMenu\n\nAll served with breakfast potatoes\n\nBiscuits & Sausage Gravy - $12\n\nHomemade Cinnamon Buns - $8\n\nPancakes - plain or chocolate chip - $10\n\nStrawberry Stuffed French Toast - $12\n\nCorned Beef Hash - $12\n\nOmelet Your Way - Choice of cheese\, meat and veggies (up to 4 fillings) - $12\n\nBuild Your Own Breakfast Sandwich - Choice of bread\, cheese\, meat\, egg style - $12\n\nEggs Your Way - 2 eggs your way\, choice of meat\, toast (white or wheat) - $10\n\n \nCheese:   Cheddar\, American\, Swiss\, Pepper Jack\n\nMeats:  Ham\, Bacon\, Sausage\, Scrapple\n\nVeggies:  Tomato\, Onion\, Peppers\, Mushrooms\n\nEgg Style:  Over Easy\, Medium\, Hard\, Sunny Side-Up\, Scrambled\n\nBreads:  White\, Wheat\, Rye\, Biscuit\, English Muffin\n\n\n\n \nDrink Specials\n\nMimosa's\n\nBloody Mary's\n\nCrushes\n\nMargaritas\n\n\n\nDining is on a first come\, first serve walk-in basis only.  No reservation required.\n\n\n\nHope you will HOP in and join us for brunch!!
X-ALT-DESC;FMTTYPE=text/html:<h1 style="text-align:center"><span style="color:#ff00ff"><span style="font-size:22px"><span style="font-family:arial"><span style="background-color:#FFFFFF"><strong><span style="font-size:36px"><em>Easter Brunch</em></span></strong></span></span></span></span></h1>\n\n<p style="text-align:center"><span style="font-size:14px"><span style="font-family:arial"><span style="background-color:#FFFFFF"><span style="font-size:20px"><strong><span style="color:#000000"><span style="font-size:16px">Sunday\, April 4\, 2021</span></span></strong></span></span></span></span></p>\n\n<p style="text-align:center"><span style="font-size:14px"><span style="font-family:arial"><span style="background-color:#FFFFFF"><span style="font-size:20px"><strong><span style="color:#000000"><span style="font-size:16px">10:00am - 3:00pm</span></span></strong></span></span></span></span></p>\n\n<div style="text-align:center">&nbsp\;</div>\n\n<h1 style="text-align:center"><span style="font-size:14px"><span style="color:#0000FF"><em><strong><span style="font-size:22px">Menu</span></strong></em></span><br />\n<span style="font-size:22px"><span style="font-size:16px">All served with breakfast potatoes</span></span></span></h1>\n\n<h1><strong>Biscuits &amp\; Sausage Gravy</strong><span style="font-size:16px">&nbsp\;- $12</span><br />\n<strong>Homemade Cinnamon Buns&nbsp\;</strong><span style="font-size:16px">- $8</span><br />\n<strong>Pancakes&nbsp\;</strong><span style="font-size:16px">- plain or chocolate chip - $10</span><br />\n<strong>Strawberry Stuffed French Toast&nbsp\;</strong><span style="font-size:16px">- $12</span><br />\n<strong>Corned Beef Hash&nbsp\;</strong><span style="font-size:16px">- $12</span><br />\n<strong>Omelet Your Way&nbsp\;</strong><span style="font-size:16px">- Choice of cheese\, meat and veggies (up to 4 fillings) - $12</span><br />\n<strong>Build Your Own Breakfast Sandwich&nbsp\;</strong><span style="font-size:16px">- Choice of bread\, cheese\, meat\, egg style - $12</span><br />\n<strong>Eggs Your Way&nbsp\;</strong><span style="font-size:16px">- 2 eggs your way\, choice of meat\, toast (white or wheat) - $10</span><br />\n&nbsp\;</h1>\n<span style="font-size:12px"><strong>Cheese:&nbsp\; &nbsp\;</strong>Cheddar\, American\, Swiss\, Pepper Jack<br />\n<strong>Meats:&nbsp\;&nbsp\;</strong>Ham\, Bacon\, Sausage\, Scrapple<br />\n<strong>Veggies:&nbsp\;&nbsp\;</strong>Tomato\, Onion\, Peppers\, Mushrooms<br />\n<strong>Egg Style:&nbsp\;&nbsp\;</strong>Over Easy\, Medium\, Hard\, Sunny Side-Up\, Scrambled<br />\n<strong>Breads:&nbsp\;&nbsp\;</strong>White\, Wheat\, Rye\, Biscuit\, English Muffin</span><br />\n<br />\n&nbsp\;\n<h1 style="text-align:center"><span style="font-size:22px"><strong><em>Drink Specials</em></strong></span></h1>\n\n<div style="text-align:center"><span style="font-size:18px"><strong>Mimosa&#39\;s<br />\nBloody Mary&#39\;s<br />\nCrushes</strong></span></div>\n\n<div style="text-align:center"><span style="font-size:18px"><strong>Margaritas</strong></span></div>\n\n<p style="text-align:center"><br />\n<span style="font-size:11px"><span style="font-family:verdana"><em><span style="font-size:12px">Dining is on a first come\, first serve walk-in basis only.&nbsp\; No reservation required.</span></em></span></span><br />\n<br />\n<span style="font-size:18px"><strong><span style="color:#FF0000"><span style="font-family:comic sans ms">Hope you will HOP in and join us for brunch!!</span></span></strong></span><br />\n&nbsp\;</p>\n
LOCATION:The Salted Rim Margarita Bar & Grille 35553 Atlantic Avenue Millville\, DE 19967 302-537-7373 saltedrimde.com
UID:e.2126.21965
SEQUENCE:3
DTSTAMP:20260424T235959Z
URL:http://business.thequietresorts.com/events/details/easter-brunch-at-the-salted-rim-21965
END:VEVENT

END:VCALENDAR
