BEGIN:VCALENDAR
VERSION:2.0
PRODID:-//ChamberMaster//Event Calendar 2.0//EN
METHOD:PUBLISH
X-PUBLISHED-TTL:P3D
REFRESH-INTERVAL:P3D
CALSCALE:GREGORIAN
BEGIN:VEVENT
DTSTART;VALUE=DATE:20230421
DTEND;VALUE=DATE:20230422
TRANSP:TRANSPARENT
X-MICROSOFT-CDO-ALLDAYEVENT:TRUE
SUMMARY:Earth Day Shredder Event
DESCRIPTION:The Frankford Public Library will be sponsoring an Earth Day Shredder Event.  Help save the planet and get rid of useless documents.  Join Lower Shore Enterprises in our parking lot on April 21 from 1-3 pm.  The library is located at 8 Main Street\, Frankford DE 19945.  For more information either go to our website https://frankford.lib.de.us/ or call the library at 302-732-9351.
X-ALT-DESC;FMTTYPE=text/html:The Frankford Public Library will be sponsoring an Earth Day Shredder Event.&nbsp\; Help save the planet and get rid of useless documents.&nbsp\; Join Lower Shore Enterprises in our parking lot on April 21 from 1-3 pm.&nbsp\; The library is located at 8 Main Street\, Frankford DE 19945.&nbsp\; For more information either go to our website&nbsp\;https://frankford.lib.de.us/ or call the library at 302-732-9351.
LOCATION:
UID:e.2126.25341
SEQUENCE:3
DTSTAMP:20260421T040355Z
URL:http://business.thequietresorts.com/events/details/earth-day-shredder-event-25341
END:VEVENT

END:VCALENDAR
