BEGIN:VCALENDAR
VERSION:2.0
PRODID:-//ChamberMaster//Event Calendar 2.0//EN
METHOD:PUBLISH
X-PUBLISHED-TTL:P3D
REFRESH-INTERVAL:P3D
CALSCALE:GREGORIAN
BEGIN:VEVENT
DTSTART;VALUE=DATE:20230824
DTEND;VALUE=DATE:20230825
TRANSP:TRANSPARENT
X-MICROSOFT-CDO-ALLDAYEVENT:TRUE
SUMMARY:Earring Making Class | All Ages | Sorella Amore
DESCRIPTION:Explore your creativity and learn the basics of jewelry making in this Earring Making Class for all ages. From ages 8 to 108\, all skill levels will gain the necessary skills to create a variety of earrings and have fun while doing it. Discover the artist inside you and bring your imagination to life!\n\nThis class is for beginner or new jewelry makers. You will have fun in a stress-free and fun learning environment. Leave with 3 pairs of earrings to keep or gift.
X-ALT-DESC;FMTTYPE=text/html:<p>Explore your creativity and learn the basics of jewelry making in this Earring Making Class for all ages. From ages 8 to 108\, all skill levels will gain the necessary&nbsp\;skills to create a variety of earrings and have fun while doing it. Discover the artist inside you and bring your imagination to life!</p>\n\n<p>This class is for beginner or new jewelry makers. You will have fun in a stress-free and fun learning environment. Leave with 3 pairs of earrings to keep or gift.</p>\n
LOCATION:Sorella Amore 32630 Cedar Drive Millville\, DE 19967
UID:e.2126.26471
SEQUENCE:3
DTSTAMP:20260420T212319Z
URL:http://business.thequietresorts.com/events/details/earring-making-class-all-ages-sorella-amore-26471
END:VEVENT

END:VCALENDAR
