BEGIN:VCALENDAR
VERSION:2.0
PRODID:-//ChamberMaster//Event Calendar 2.0//EN
METHOD:PUBLISH
X-PUBLISHED-TTL:P3D
REFRESH-INTERVAL:P3D
CALSCALE:GREGORIAN
BEGIN:VEVENT
DTSTART:20230502T133000Z
DTEND:20230502T200000Z
X-MICROSOFT-CDO-ALLDAYEVENT:FALSE
SUMMARY:Early Childhood Advocacy Day 2023
DESCRIPTION:Join the Delaware Association for the Education of Young Children (DEAEYC) for Early Childhood Advocacy Day on May 2nd\, 2023!  With in-person and virtual opportunities available\, join child-care advoactes in telling legislators to make affordable\, accessible\, child care a priority in the upcoming budget\,  \n\n\n\nIn person events will take place at the Dover Library and Legislative Hall.  \n\n\n\nFor full event agenda and information click here.
X-ALT-DESC;FMTTYPE=text/html:Join the Delaware Association for the Education of Young Children (DEAEYC) for Early Childhood Advocacy Day on May 2nd\, 2023!&nbsp\; With in-person and virtual opportunities available\, join child-care advoactes in telling legislators to make affordable\, accessible\, child care a priority in the upcoming budget\,&nbsp\;&nbsp\;<br />\n<br />\nIn person events will take place at the Dover Library and Legislative Hall.&nbsp\;&nbsp\;<br />\n<br />\n<strong><span style="color:#FF0000\;">For full event agenda and information click </span><a href="https://www.eventbrite.com/e/2023-early-childhood-advocacy-day-in-person-event-tickets-598549115517"><span style="color:#FF0000\;">here.</span></a></strong>
LOCATION:In-person and virtual opportunities available. In-person events will take place at the Dover Public Library: 35 Loockerman Plaza Dover\, DE 19901
UID:e.2126.25380
SEQUENCE:3
DTSTAMP:20260421T024406Z
URL:http://business.thequietresorts.com/events/details/early-childhood-advocacy-day-2023-25380
END:VEVENT

END:VCALENDAR
