BEGIN:VCALENDAR
VERSION:2.0
PRODID:-//ChamberMaster//Event Calendar 2.0//EN
METHOD:PUBLISH
X-PUBLISHED-TTL:P3D
REFRESH-INTERVAL:P3D
CALSCALE:GREGORIAN
BEGIN:VEVENT
DTSTART:20240608T230000Z
DTEND:20240609T020000Z
X-MICROSOFT-CDO-ALLDAYEVENT:FALSE
SUMMARY:Eaglemania — The World's Greatest Eagles Tribute Band at Freeman Performing Arts
DESCRIPTION:Tickets are $29+fees\n\nChildren 12 and under do not require a ticket and are free to attend.\n\nEagleMania: The World's Greatest Eagles Tribute.\n\nEagleMania has been dazzling audiences for over a decade by spectacularly reproducing the music of The Eagles. EagleMania thrills internationally sold-out audiences with their stunning five-part harmony\, virtuoso guitar work and uncanny ability to emulate the distinct sound of The Eagles. The EagleMania show consists of the Eagles' greatest hits\, as well as select Don Henley\, Glenn Frey\, and Joe Walsh solo efforts.\n\n \n\nIf you like The Eagles you simply must experience the world's greatest Eagles Tribute\, EagleMania!
X-ALT-DESC;FMTTYPE=text/html:<p><strong>Tickets are $29+fees</strong></p>\n\n<p><em>Children 12 and under do not require a ticket and are free to attend.</em></p>\n\n<p><strong>EagleMania: The World&rsquo\;s Greatest Eagles Tribute.</strong></p>\n\n<div>EagleMania has been dazzling audiences for over a decade by spectacularly reproducing the music of The Eagles. EagleMania thrills internationally sold-out audiences with their stunning five-part harmony\, virtuoso guitar work and uncanny ability to emulate the distinct sound of The Eagles. The EagleMania show consists of the Eagles&rsquo\; greatest hits\, as well as select Don Henley\, Glenn Frey\, and Joe Walsh solo efforts.</div>\n\n<div>&nbsp\;</div>\n\n<div>If you like The Eagles you simply must experience the world&rsquo\;s greatest Eagles Tribute\, EagleMania!</div>\n
LOCATION:Freeman Arts Pavilion 31806 Lakeview Drive Selbyville\, DE 19975
UID:e.2126.28448
SEQUENCE:3
DTSTAMP:20260420T092523Z
URL:http://business.thequietresorts.com/events/details/eaglemania-the-world-s-greatest-eagles-tribute-band-at-freeman-performing-arts-28448
END:VEVENT

END:VCALENDAR
