BEGIN:VCALENDAR
VERSION:2.0
PRODID:-//ChamberMaster//Event Calendar 2.0//EN
METHOD:PUBLISH
X-PUBLISHED-TTL:P3D
REFRESH-INTERVAL:P3D
CALSCALE:GREGORIAN
BEGIN:VEVENT
DTSTART:20230714T230000Z
DTEND:20230716T020000Z
X-MICROSOFT-CDO-ALLDAYEVENT:FALSE
SUMMARY:EagleMania — The World's Greatest Eagles Tribute
DESCRIPTION:TICKETS ARE $25\, CHILDREN 12 AND UNDER ARE FREE TO ATTEND\n\nEagleMania: The World's Greatest Eagles Tribute.\n\n \n\nEagleMania has been dazzling audiences for over a decade by spectacularly reproducing the music of The Eagles. EagleMania thrills internationally sold-out audiences with their stunning five part harmony\, virtuoso guitar work and uncanny ability to emulate the distinct sound of The Eagles. The EagleMania show consists of the Eagles' greatest hits\, as well as select Don Henley\, Glenn Frey\, and Joe Walsh solo efforts.\n\n \n\nIf you like The Eagles you simply must experience the world's greatest Eagles Tribute\, EagleMania!
X-ALT-DESC;FMTTYPE=text/html:<h6>TICKETS ARE $25\, CHILDREN 12 AND UNDER ARE FREE TO ATTEND</h6>\n\n<div><strong>EagleMania: The World&rsquo\;s Greatest Eagles Tribute.</strong></div>\n\n<div>&nbsp\;</div>\n\n<div>EagleMania has been dazzling audiences for over a decade by spectacularly reproducing the music of The Eagles. EagleMania thrills internationally sold-out audiences with their stunning five part harmony\, virtuoso guitar work and uncanny ability to emulate the distinct sound of The Eagles. The EagleMania show consists of the Eagles&rsquo\; greatest hits\, as well as select Don Henley\, Glenn Frey\, and Joe Walsh solo efforts.</div>\n\n<div>&nbsp\;</div>\n\n<div>If you like The Eagles you simply must experience the world&rsquo\;s greatest Eagles Tribute\, EagleMania!</div>\n
LOCATION:Freeman Arts Pavilion a program of the Joshua M. Freeman Foundation is a champion of the arts on Delmarva\, providing diverse arts performances as well as arts access programs for local schools and the community at large. From June-September the Freeman Arts Pavilion is an open-air performance space showcasing music\, dance\, comedy\, theater\, children's programs\, and free events.
UID:e.2126.26097
SEQUENCE:3
DTSTAMP:20260420T230701Z
URL:http://business.thequietresorts.com/events/details/eaglemania-the-world-s-greatest-eagles-tribute-07-14-2023-26097
END:VEVENT

END:VCALENDAR
