BEGIN:VCALENDAR
VERSION:2.0
PRODID:-//ChamberMaster//Event Calendar 2.0//EN
METHOD:PUBLISH
X-PUBLISHED-TTL:P3D
REFRESH-INTERVAL:P3D
CALSCALE:GREGORIAN
BEGIN:VEVENT
DTSTART:20230719T213000Z
DTEND:20230719T223000Z
X-MICROSOFT-CDO-ALLDAYEVENT:FALSE
SUMMARY:Dry Needling Workshop with Stride Physical Therapy and Wellness
DESCRIPTION:Please join Nicki Evans\, DPT/owner of Stride Physical Therapy and Wellness to learn about Dry Needling and how it can be of benefit to you during treatments and/or training. Topics that will be discussed include what is Dry needling\, who can benefit from it\, what diagnoses does it help\, a demonstration\, and a Q&A session
X-ALT-DESC;FMTTYPE=text/html:Please join Nicki Evans\, DPT/owner of Stride Physical Therapy and Wellness to learn about Dry Needling and how it can be of benefit to you during treatments and/or training. Topics that will be discussed include what is Dry needling\, who can benefit from it\, what diagnoses does it help\, a demonstration\, and a Q&amp\;A session
LOCATION:Stride PT and Wellness 35247 Atlantic Ave Unit 2 Millville DE\, 19970
UID:e.2126.26399
SEQUENCE:3
DTSTAMP:20260420T230228Z
URL:http://business.thequietresorts.com/events/details/dry-needling-workshop-with-stride-physical-therapy-and-wellness-26399
END:VEVENT

END:VCALENDAR
