BEGIN:VCALENDAR
VERSION:2.0
PRODID:-//ChamberMaster//Event Calendar 2.0//EN
METHOD:PUBLISH
X-PUBLISHED-TTL:P3D
REFRESH-INTERVAL:P3D
CALSCALE:GREGORIAN
BEGIN:VEVENT
DTSTART:20211218T160000Z
DTEND:20211218T200000Z
X-MICROSOFT-CDO-ALLDAYEVENT:FALSE
SUMMARY:Drive Thru Santa Visit
DESCRIPTION:PROFESSIONAL PHOTOS WITH SANTA   FREE PRINTS/JPEG\n	HOT COCOA BAR\, SNACKS & FREE GIFT BAGS\n	TOYS FOR TOTS DROP OFF LOCATION\n\n     Give your wish List to Santa!\n\n     Kids of all ages are invited!\n\n     Contact Shiela Brennan with any questions: 302-278-3993
X-ALT-DESC;FMTTYPE=text/html:<ul>\n	<li style="font-size:11pt\;font-family:Calibri\, sans-serif\;">PROFESSIONAL PHOTOS WITH SANTA &ndash\; FREE PRINTS/JPEG</li>\n	<li style="font-size:11pt\;font-family:Calibri\, sans-serif\;"><span style="position:static !important\;margin:0px !important\;padding:0px !important\;opacity:1 !important\;float:inherit !important\;font-style:inherit !important\;font-variant-caps:inherit !important\;font-weight:inherit !important\;font-stretch:inherit !important\;"><span style="font-size:inherit !important\;"><span style="font-family:inherit !important\;">HOT COCOA BAR\, SNACKS &amp\; FREE GIFT BAGS</span></span></span></li>\n	<li style="font-size:11pt\;font-family:Calibri\, sans-serif\;">TOYS FOR TOTS DROP OFF LOCATION</li>\n</ul>\n&nbsp\;&nbsp\;&nbsp\;&nbsp\; Give your wish List to Santa!<br />\n&nbsp\;&nbsp\;&nbsp\;&nbsp\;&nbsp\;Kids of all ages are invited!<br />\n<span style="position:static !important\;margin:0px !important\;padding:0px !important\;opacity:1 !important\;float:inherit !important\;font-style:inherit !important\;font-variant-caps:inherit !important\;font-weight:inherit !important\;font-stretch:inherit !important\;"><span style="font-size:inherit !important\;"><span style="font-family:inherit !important\;">&nbsp\;&nbsp\;&nbsp\;&nbsp\; Contact Shiela Brennan&nbsp\;with any questions: 302-278-3993</span></span></span><br />\n<br />\n<br />\n&nbsp\;
LOCATION:Long & Foster Bethany\, 33298 Coastal Highway
UID:e.2126.23323
SEQUENCE:3
DTSTAMP:20260424T084359Z
URL:http://business.thequietresorts.com/events/details/drive-thru-santa-visit-23323
END:VEVENT

END:VCALENDAR
