BEGIN:VCALENDAR
VERSION:2.0
PRODID:-//ChamberMaster//Event Calendar 2.0//EN
METHOD:PUBLISH
X-PUBLISHED-TTL:P3D
REFRESH-INTERVAL:P3D
CALSCALE:GREGORIAN
BEGIN:VEVENT
DTSTART:20240113T160000Z
DTEND:20240114T210000Z
X-MICROSOFT-CDO-ALLDAYEVENT:FALSE
SUMMARY:DreamFest Events at the Art League of Ocean City
DESCRIPTION:Please join us at the Art League of Ocean City on 94th street in celebration of MLK Weekend with events to inspire you. With complimentary light food and drinks. Free and open to the public!\n\nSATURDAY JANUARY 13TH\n\n\n	11am-4pm: "I Have a Dream" youth art show and artist Kevin Harris (Chestertown\, MD) with paintings on glass representing African American culture.\n	12:30-1:30pm: Jay Konsciouz (Baltimore\, MD) performs hip hop.\n	2-3pm: Short film showcase & Q&A with filmmakers to follow: "Points of Juxtaposition" by B.L. Strang-Moya. "Nothing Makes Sense" by Torrez Wise. "Runaway Groom" by Marlon Wallace.\n	3-4pm: MLK banner on display for pictures.\n\n\nSUNDAY\, JANUARY 14TH\n\n\n	11am-4pm: Exhibits continue\n	12-1pm: Hip Hop open mic and Q&A with Jay Konsciouz
X-ALT-DESC;FMTTYPE=text/html:<p>Please join us at the Art League of Ocean City on 94th street&nbsp\;in celebration of MLK Weekend with events to inspire you. With complimentary light food and drinks. Free and open to the public!</p>\n\n<p>SATURDAY JANUARY 13TH</p>\n\n<ul>\n	<li>11am-4pm: &ldquo\;I Have a Dream&rdquo\; youth art show and artist Kevin Harris (Chestertown\, MD) with paintings on glass representing African American culture.</li>\n	<li>12:30-1:30pm: Jay Konsciouz (Baltimore\, MD) performs hip hop.</li>\n	<li>2-3pm: Short film showcase &amp\; Q&amp\;A with filmmakers to follow: &ldquo\;Points of Juxtaposition&rdquo\; by B.L. Strang-Moya. &ldquo\;Nothing Makes Sense&rdquo\; by Torrez Wise. &ldquo\;Runaway Groom&rdquo\; by Marlon Wallace.</li>\n	<li>3-4pm: MLK banner on display for pictures.</li>\n</ul>\n\n<p>SUNDAY\, JANUARY 14TH</p>\n\n<ul>\n	<li>11am-4pm: Exhibits continue</li>\n	<li>12-1pm: Hip Hop open mic and Q&amp\;A with Jay Konsciouz</li>\n</ul>\n
LOCATION:Art League of Ocean City 502 94th Street Ocean City\, MD 21842
UID:e.2126.27398
SEQUENCE:3
DTSTAMP:20260420T152826Z
URL:http://business.thequietresorts.com/events/details/dreamfest-events-at-the-art-league-of-ocean-city-27398
END:VEVENT

END:VCALENDAR
