BEGIN:VCALENDAR
VERSION:2.0
PRODID:-//ChamberMaster//Event Calendar 2.0//EN
METHOD:PUBLISH
X-PUBLISHED-TTL:P3D
REFRESH-INTERVAL:P3D
CALSCALE:GREGORIAN
BEGIN:VEVENT
DTSTART:20200604T150000Z
DTEND:20200604T160000Z
X-MICROSOFT-CDO-ALLDAYEVENT:FALSE
SUMMARY:Doing Business in the New Normal
DESCRIPTION:This webinar sponsored by the Delaware Business Times and Delaware's Small Business Development Center will focus on rebuiling operations while keeping your customers and employees safe.
X-ALT-DESC;FMTTYPE=text/html:<span style="font-size:14px\;"><span style="font-family:arial\;">This webinar sponsored by the Delaware Business Times and Delaware's S</span></span><span style="color: rgb(51\, 51\, 51)\; font-family: sans-serif\, Arial\, Verdana\, &quot\;Trebuchet MS&quot\;\; font-size: 13px\; background-color: rgb(255\, 255\, 255)\;"><span style="font-size:14px\;"><span style="font-family:arial\;">mall Business Development Center will focus on rebuiling operations while keeping your customers and employees safe</span></span>.</span>
LOCATION:WEBINAR Register here https://delawarebusinesstimes.com/sbdc/
UID:e.2126.21523
SEQUENCE:3
DTSTAMP:20260425T180444Z
URL:http://business.thequietresorts.com/events/details/doing-business-in-the-new-normal-21523
END:VEVENT

END:VCALENDAR
