BEGIN:VCALENDAR
VERSION:2.0
PRODID:-//ChamberMaster//Event Calendar 2.0//EN
METHOD:PUBLISH
X-PUBLISHED-TTL:P3D
REFRESH-INTERVAL:P3D
CALSCALE:GREGORIAN
BEGIN:VEVENT
DTSTART:20200319T223000Z
DTEND:20200320T020000Z
X-MICROSOFT-CDO-ALLDAYEVENT:FALSE
SUMMARY:Dogfish Head Beer Dinner
DESCRIPTION:Come by Zoca on Thursday\, March 19\, for a Dogfish Head Beer Dinner. Tickets are available for $35 per person.\n\n\n\nFirst Course\n\nTaco De Pulpo Al Aljillo\n\nHand pressed blue corn tortillas\, pico\, yellow onions\, cilantro\, garlic chipotle agave sauce\n\nLiquid Truth Serum IPA 7%\n\n\n\nSecond Course\n\nLengua De Res\n\nFried plantains\, tomato molcajete\, avocado crema\n\nSuper Eight 5.3%\n\n\n\nThird Course\n\nBarbacoa Pork Pozole\n\nSunny side egg\, queso fresco\, radish\, cabbage jalapeno slaw\n\nSeaquench Session Sour 4.9%\n\n\n\nDessert Course\n\nBanana Budino\n\nOrange caramel\, cinnamon sugar\n\nVibrant P'ocean Ale 4.7%
X-ALT-DESC;FMTTYPE=text/html:<span style="font-family: arial\;"><span style="font-size: 14px\;">Come by Zoca on Thursday\, March 19\, for a Dogfish Head Beer Dinner. Tickets are available for $35 per person.<br />\n<br />\nFirst Course<br />\nTaco De Pulpo Al Aljillo<br />\n<em>Hand pressed blue corn tortillas\, pico\, yellow onions\, cilantro\, garlic chipotle agave sauce<br />\nLiquid Truth Serum IPA 7%</em><br />\n<br />\nSecond Course<br />\nLengua De Res<br />\n<em>Fried plantains\, tomato molcajete\, avocado crema<br />\nSuper Eight 5.3%</em><br />\n<br />\nThird Course<br />\nBarbacoa Pork Pozole<br />\n<em>Sunny side egg\, queso fresco\, radish\, cabbage jalapeno slaw<br />\nSeaquench Session Sour 4.9%</em><br />\n<br />\nDessert Course<br />\nBanana Budino<br />\n<em>Orange caramel\, cinnamon sugar<br />\nVibrant P&#39\;ocean Ale 4.7%</em></span></span>
LOCATION:Zoca Restaurant 98 Garfield Pkwy Bethany Beach\, DE 19930
UID:e.2126.20323
SEQUENCE:3
DTSTAMP:20260425T225002Z
URL:http://business.thequietresorts.com/events/details/dogfish-head-beer-dinner-20323
END:VEVENT

END:VCALENDAR
