BEGIN:VCALENDAR
VERSION:2.0
PRODID:-//ChamberMaster//Event Calendar 2.0//EN
METHOD:PUBLISH
X-PUBLISHED-TTL:P3D
REFRESH-INTERVAL:P3D
CALSCALE:GREGORIAN
BEGIN:VEVENT
DTSTART:20240229T220000Z
DTEND:20240229T230000Z
X-MICROSOFT-CDO-ALLDAYEVENT:FALSE
SUMMARY:DIY Tea Towel at Board & Brush
DESCRIPTION:Looking to add some charm to your kitchen d cor? Join us for our DIY decorative towel workshop! We're putting the "fun" into function with these decorative towels! Select a design from our gallery. We provide all the materials and instruct you step-by-step to create something beautiful for your home or for a gift. Choose from a variety of paint colors in the workshop. Pre-registration is required. We look forward to seeing you soon!
X-ALT-DESC;FMTTYPE=text/html:<span style="color:rgb(74\, 74\, 74)\; font-family:droid_sansregular\,sans-serif\; font-size:16px">Looking to add some charm to your kitchen d&eacute\;cor? Join us for our DIY decorative towel workshop! We&rsquo\;re putting the &ldquo\;fun&rdquo\; into function with these decorative towels! Select a design from our gallery. We provide all the materials and instruct you step-by-step to create something beautiful for your home or for a gift. Choose from a variety of paint colors in the workshop. Pre-registration is required. We look forward to seeing you soon!</span>
LOCATION:30447 Cedar Neck Rd Unit 2 Ocean View\, DE 19970
UID:e.2126.27774
SEQUENCE:3
DTSTAMP:20260420T093613Z
URL:http://business.thequietresorts.com/events/details/diy-tea-towel-at-board-brush-27774
END:VEVENT

END:VCALENDAR
