BEGIN:VCALENDAR
VERSION:2.0
PRODID:-//ChamberMaster//Event Calendar 2.0//EN
METHOD:PUBLISH
X-PUBLISHED-TTL:P3D
REFRESH-INTERVAL:P3D
CALSCALE:GREGORIAN
BEGIN:VEVENT
DTSTART:20240404T200000Z
DTEND:20240404T213000Z
X-MICROSOFT-CDO-ALLDAYEVENT:FALSE
SUMMARY:DIY Doormats at Board & Brush
DESCRIPTION:Looking for a fun way to spruce up your front porch? Join us for our DIY doormat workshop! Select a design from our gallery. We provide all the materials and instruct you step-by-step to create a beautiful piece for your home or for a gift. Choose from a variety of paint colors in the workshop. Pre-registration is required. We look forward to seeing you soon!\n\n\nhttps://boardandbrush.com/bethanybeach/events/diy-doormat-workshop-04-04-2024-4pm-530pm/
X-ALT-DESC;FMTTYPE=text/html:<div>Looking for a fun way to spruce up your front porch? Join us for our DIY doormat workshop! Select a design from our gallery. We provide all the materials and instruct you step-by-step to create a beautiful piece for your home or for a gift. Choose from a variety of paint colors in the workshop. Pre-registration is required. We look forward to seeing you soon!</div>\n<br />\nhttps://boardandbrush.com/bethanybeach/events/diy-doormat-workshop-04-04-2024-4pm-530pm/
LOCATION:Board & Brush 30447 Cedar Neck Rd. Unit 2 Ocean View DE 19970
UID:e.2126.28537
SEQUENCE:3
DTSTAMP:20260420T073314Z
URL:http://business.thequietresorts.com/events/details/diy-doormats-at-board-brush-28537
END:VEVENT

END:VCALENDAR
