BEGIN:VCALENDAR
VERSION:2.0
PRODID:-//ChamberMaster//Event Calendar 2.0//EN
METHOD:PUBLISH
X-PUBLISHED-TTL:P3D
REFRESH-INTERVAL:P3D
CALSCALE:GREGORIAN
BEGIN:VEVENT
DTSTART:20240601T160000Z
DTEND:20240601T190000Z
X-MICROSOFT-CDO-ALLDAYEVENT:FALSE
SUMMARY:DIY Cornhole Boards at Board & Brush
DESCRIPTION:Looking for some backyard fun for the whole family? Our Cornhole Sets are the perfect warm-weather activity to do with friends and family. There are a variety of cornhole set designs to choose from. We provide all the materials and instruct you step-by-step to create a beautiful set for yourself or for a gift. Choose from a variety of paint and wood stain colors in the workshop. Pre-registration is required\, we look forward to seeing you soon! ** One registration per couple ** \nhttps://boardandbrush.com/bethanybeach/events/06-01-2024-12pm-3pm/
X-ALT-DESC;FMTTYPE=text/html:<div>Looking for some backyard fun for the whole family? Our Cornhole Sets are the perfect warm-weather activity to do with friends and family. There are a variety of cornhole set designs to choose from. We provide all the materials and instruct you step-by-step to create a beautiful set for yourself or for a gift. Choose from a variety of paint and wood stain colors in the workshop. Pre-registration is required\, we look forward to seeing you soon! ** One registration per couple **&nbsp\;</div>\nhttps://boardandbrush.com/bethanybeach/events/06-01-2024-12pm-3pm/
LOCATION:30447 Cedar Neck Road Unit 2 Ocean View\, DE 19970
UID:e.2126.29957
SEQUENCE:3
DTSTAMP:20260420T103408Z
URL:http://business.thequietresorts.com/events/details/diy-cornhole-boards-at-board-brush-29957
END:VEVENT

END:VCALENDAR
