BEGIN:VCALENDAR
VERSION:2.0
PRODID:-//ChamberMaster//Event Calendar 2.0//EN
METHOD:PUBLISH
X-PUBLISHED-TTL:P3D
REFRESH-INTERVAL:P3D
CALSCALE:GREGORIAN
BEGIN:VEVENT
DTSTART:20231218T050000Z
DTEND:20240201T045500Z
X-MICROSOFT-CDO-ALLDAYEVENT:FALSE
SUMMARY:Disounted Rates at Fenwick Shores!
DESCRIPTION:Take the elevator home and stay safe this holiday season at Fenwick Shores! Fenwick Shores is offering discounted room rates of $79 - $99 (plus tax) to local restaurants and businesses hosting a holiday party nearby.\n\n\n\n \n\n\n\nFor more information call 302-539-8200 or click here!
X-ALT-DESC;FMTTYPE=text/html:<div style="border: 0px\; font-variant-numeric: inherit\; font-variant-east-asian: inherit\; font-variant-alternates: inherit\; font-variant-position: inherit\; font-stretch: inherit\; font-size: 15px\; line-height: inherit\; font-family: &quot\;Segoe UI&quot\;\, &quot\;Segoe UI Web (West European)&quot\;\, &quot\;Segoe UI&quot\;\, -apple-system\, BlinkMacSystemFont\, Roboto\, &quot\;Helvetica Neue&quot\;\, sans-serif\; font-optical-sizing: inherit\; font-kerning: inherit\; font-feature-settings: inherit\; font-variation-settings: inherit\; margin: 0px\; padding: 0px\; vertical-align: baseline\; color: rgb(66\, 66\, 66)\;">\n<p style="font-size: 11pt\; font-family: Calibri\, sans-serif\; margin: 0px\;"><span style="font-size:14px\;"><span style="font-family:arial\;"><span style="border: 0px\; font-style: inherit\; font-variant: inherit\; font-weight: inherit\; font-stretch: inherit\; line-height: inherit\; font-optical-sizing: inherit\; font-kerning: inherit\; font-feature-settings: inherit\; font-variation-settings: inherit\; margin: 0px\; padding: 0px\; vertical-align: baseline\; color: rgb(0\, 56\, 101)\;">Take the elevator home and stay safe this holiday season at Fenwick Shores! Fenwick Shores is offering discounted room rates of $79 - $99 (plus tax) to local restaurants and businesses&nbsp\;hosting a holiday party nearby.</span></span></span></p>\n</div>\n\n<div style="border: 0px\; font-variant-numeric: inherit\; font-variant-east-asian: inherit\; font-variant-alternates: inherit\; font-variant-position: inherit\; font-stretch: inherit\; font-size: 15px\; line-height: inherit\; font-family: &quot\;Segoe UI&quot\;\, &quot\;Segoe UI Web (West European)&quot\;\, &quot\;Segoe UI&quot\;\, -apple-system\, BlinkMacSystemFont\, Roboto\, &quot\;Helvetica Neue&quot\;\, sans-serif\; font-optical-sizing: inherit\; font-kerning: inherit\; font-feature-settings: inherit\; font-variation-settings: inherit\; margin: 0px\; padding: 0px\; vertical-align: baseline\; color: rgb(66\, 66\, 66)\;">\n<p style="font-size: 11pt\; font-family: Calibri\, sans-serif\; margin: 0px\;"><span style="font-size:14px\;"><span style="font-family:arial\;"><span style="border: 0px\; font-style: inherit\; font-variant: inherit\; font-weight: inherit\; font-stretch: inherit\; line-height: inherit\; font-optical-sizing: inherit\; font-kerning: inherit\; font-feature-settings: inherit\; font-variation-settings: inherit\; margin: 0px\; padding: 0px\; vertical-align: baseline\; color: rgb(0\, 56\, 101)\;">&nbsp\;</span></span></span></p>\n</div>\n\n<div style="border: 0px\; font-variant-numeric: inherit\; font-variant-east-asian: inherit\; font-variant-alternates: inherit\; font-variant-position: inherit\; font-stretch: inherit\; font-size: 15px\; line-height: inherit\; font-family: &quot\;Segoe UI&quot\;\, &quot\;Segoe UI Web (West European)&quot\;\, &quot\;Segoe UI&quot\;\, -apple-system\, BlinkMacSystemFont\, Roboto\, &quot\;Helvetica Neue&quot\;\, sans-serif\; font-optical-sizing: inherit\; font-kerning: inherit\; font-feature-settings: inherit\; font-variation-settings: inherit\; margin: 0px\; padding: 0px\; vertical-align: baseline\; color: rgb(66\, 66\, 66)\;">\n<p style="font-size: 11pt\; font-family: Calibri\, sans-serif\; margin: 0px\;"><span style="font-size:14px\;"><span style="font-family:arial\;"><span style="border: 0px\; font-style: inherit\; font-variant: inherit\; font-weight: inherit\; font-stretch: inherit\; line-height: inherit\; font-optical-sizing: inherit\; font-kerning: inherit\; font-feature-settings: inherit\; font-variation-settings: inherit\; margin: 0px\; padding: 0px\; vertical-align: baseline\; color: rgb(0\, 56\, 101)\;">For more information call 302-539-8200 or&nbsp\;<a data-auth="NotApplicable" data-linkindex="4" href="https://r20.rs6.net/tn.jsp?f=0011pO31asvayC_hxZN9jAfh9hUFWzCecTpvka64rjPklF8zyWwH7sY7dsqPQxNZL0Gs7GoIvRxhxNDIU1kMda3St4ULX3C4U7y7D9HWkBOQB_u-UPDAu7RpggqBh_IEIYpATlXP27HMdYmVn6fH35Rq76inwV6uBw37Cufz-JLz4BMyOhWqtsytOl57t4nPfDydjqY5qJ4dx2pYHlrERVdNTxZL-4SWlGzuPOHUkydVS9U1KEwGwV9k2mRadJG6KJV4GYtn1-V5QpUfTFsCcy-OHtewDcj_HMerHxXZfltOiT9yFcvmyMLIxIZFUly8AsRzjBBBHv4xIs=&amp\;c=FnYWNWbSOkzD3MwRPOvdTk2mmvgRrT482kMA7XNT3NnexfGg71b_LA==&amp\;ch=eX--YhgcfTfoe-m469mmEw0P46UanDbv8x-MyMWmHzFOZXSKGoolag==" rel="noopener noreferrer" style="border: 0px\; font: inherit\; margin: 0px\; padding: 0px\; vertical-align: baseline\;" target="_blank"><b><span style="border: 0px\; font-style: inherit\; font-variant: inherit\; font-weight: inherit\; font-stretch: inherit\; line-height: inherit\; font-optical-sizing: inherit\; font-kerning: inherit\; font-feature-settings: inherit\; font-variation-settings: inherit\; margin: 0px\; padding: 0px\; vertical-align: baseline\; color: rgb(94\, 129\, 202)\; text-decoration-line: none\;">click here</span></b></a>!</span></span></span></p>\n</div>\n
LOCATION:Fenwick Shores 1501 Coastal Hwy. Fenwick Island
UID:e.2126.27374
SEQUENCE:3
DTSTAMP:20260420T152448Z
URL:http://business.thequietresorts.com/events/details/disounted-rates-at-fenwick-shores-27374
END:VEVENT

END:VCALENDAR
