BEGIN:VCALENDAR
VERSION:2.0
PRODID:-//ChamberMaster//Event Calendar 2.0//EN
METHOD:PUBLISH
X-PUBLISHED-TTL:P3D
REFRESH-INTERVAL:P3D
CALSCALE:GREGORIAN
BEGIN:VEVENT
DTSTART:20240304T200000Z
DTEND:20240304T210000Z
X-MICROSOFT-CDO-ALLDAYEVENT:FALSE
SUMMARY:Discussion on Homelessness and the Lack of Affordable Housing in Southern Delaware
DESCRIPTION:How serious of a problem is homelessness and the lack of affordable housing in southern Delaware? How is this issue being addressed\, if at all\, in our communities and by policy makers? What can you do to help? St. Martha's Episcopal Church in Bethany will be sponsoring a panel discussion on these topics 3 pm\, Monday\, March 4\, 2024\, in the church's parish hall.\n\n\n\nWe invite you to join us for this important program as panelists from different organizations in the region and the state present their perspectives on these questions. St. Martha's is located at 117 Maplewood Street\, Bethany Beach\,
X-ALT-DESC;FMTTYPE=text/html:<span style="color:rgb(0\, 0\, 0)\; font-family:times new roman\; font-size:medium">How serious of a problem is homelessness and the lack of affordable housing in southern Delaware? How is this issue being addressed\, if at all\, in our communities and by policy makers? What can you do to help? St. Martha&rsquo\;s Episcopal Church in Bethany will be sponsoring a panel discussion on these topics 3 pm\, Monday\, March 4\, 2024\, in the church&rsquo\;s parish hall.<br />\n<br />\nWe invite you to join us for this important program as panelists from different organizations in the region and the state present their perspectives on these questions. St. Martha&rsquo\;s is located at 117 Maplewood Street\, Bethany Beach\,</span>
LOCATION:St. Martha's Episcopal Church 117 Maplewood Street Bethany Beach\, DE 19930
UID:e.2126.28384
SEQUENCE:3
DTSTAMP:20260420T074507Z
URL:http://business.thequietresorts.com/events/details/discussion-on-homelessness-and-the-lack-of-affordable-housing-in-southern-delaware-28384
END:VEVENT

END:VCALENDAR
