BEGIN:VCALENDAR
VERSION:2.0
PRODID:-//ChamberMaster//Event Calendar 2.0//EN
METHOD:PUBLISH
X-PUBLISHED-TTL:P3D
REFRESH-INTERVAL:P3D
CALSCALE:GREGORIAN
BEGIN:VEVENT
DTSTART:20240208T230000Z
DTEND:20240209T010000Z
X-MICROSOFT-CDO-ALLDAYEVENT:FALSE
SUMMARY:Diplomatico Rum Dinner at Bethany Beach Ocean Suites
DESCRIPTION:We cordially invite you to join us for an intimate evening celebrating Venezula's premier rum producer Diplomatico. Join us on a gastronomical journey from the shores of Bethany Beach across the Carribean to the shores of South America and allow us to tantalize your tastebuds. Alongside representatives from both Diplomatico and Breakthru Beverage\, Via Sophia's culinary and beverage team will be presenting four unique courses paired with bespoke contemporary craft cocktails. Skip the airfare and airport security while joining us for an exceptional epicurean endeavor. Please reach out to us prior to the event to discuss potential allergy concerns.\n\n\n\nBOOK NOW
X-ALT-DESC;FMTTYPE=text/html:<span style="color:rgb(45\, 51\, 63)\; font-family:brandontext\,helvetica neue\,helvetica\,arial\,opentablehiragino\,roboto\,droid sans\,??????\,opentableyugothic\,yugothic\,yu gothic\,????\,meiryo\,ms p????\,ms pgothic\,sans-serif\; font-size:16px">We cordially invite you to join us for an intimate evening celebrating Venezula&#39\;s premier rum producer Diplomatico. Join us on a gastronomical journey from the shores of Bethany Beach across the Carribean to the shores of South America and allow us to tantalize your tastebuds. Alongside representatives from both Diplomatico and Breakthru Beverage\, Via Sophia&#39\;s culinary and beverage team will be presenting four unique courses paired with bespoke contemporary craft cocktails. Skip the airfare and airport security while joining us for an exceptional epicurean endeavor. Please reach out to us prior to the event to discuss potential allergy concerns.<br />\n<br />\n<a href="https://www.opentable.com/booking/experiences-availability?rid=1279714&amp\;restref=1279714&amp\;experienceId=246275&amp\;utm_source=external&amp\;utm_medium=referral&amp\;utm_campaign=shared&amp\;fbclid=IwAR1KNRusQYNp4BMyrCaPdLbEgYlHlymY8268WZtTBfL7S636RhfXKZkNu-g">BOOK NOW</a></span>
LOCATION:Via Sophia by the Sea 99 Hollywood Street Bethany Beach\, Delaware 19930
UID:e.2126.28223
SEQUENCE:3
DTSTAMP:20260420T093618Z
URL:http://business.thequietresorts.com/events/details/diplomatico-rum-dinner-at-bethany-beach-ocean-suites-28223
END:VEVENT

END:VCALENDAR
