BEGIN:VCALENDAR
VERSION:2.0
PRODID:-//ChamberMaster//Event Calendar 2.0//EN
METHOD:PUBLISH
X-PUBLISHED-TTL:P3D
REFRESH-INTERVAL:P3D
CALSCALE:GREGORIAN
BEGIN:VEVENT
DTSTART:20200109T210000Z
DTEND:20200109T220000Z
X-MICROSOFT-CDO-ALLDAYEVENT:FALSE
SUMMARY:Dine n' Donate
DESCRIPTION:FINS Ale House & Raw Bar will offer a Dine n' Donate on Thursday\, January 9 at 4 pm where a portion of dinner proceeds will be donated to support the Ocean View Historical Society that runs the Coastal Towns Historic Village in Ocean View.
X-ALT-DESC;FMTTYPE=text/html:<span style="font-family: arial\;"><span style="font-size: 14px\;">FINS Ale House &amp\; Raw Bar will offer a Dine n&#39\; Donate on Thursday\, January 9 at 4 pm where a portion of dinner proceeds will be donated to support the Ocean View Historical Society that runs the Coastal Towns Historic Village in Ocean View.</span></span>
LOCATION:FINS Ale House & Raw Bar 33544 Market Place Bethany Beach\, DE 19930
UID:e.2126.19652
SEQUENCE:3
DTSTAMP:20260426T020604Z
URL:http://business.thequietresorts.com/events/details/dine-n-donate-19652
END:VEVENT

END:VCALENDAR
