BEGIN:VCALENDAR
VERSION:2.0
PRODID:-//ChamberMaster//Event Calendar 2.0//EN
METHOD:PUBLISH
X-PUBLISHED-TTL:P3D
REFRESH-INTERVAL:P3D
CALSCALE:GREGORIAN
BEGIN:VEVENT
DTSTART:20191212T223000Z
DTEND:20191213T013000Z
X-MICROSOFT-CDO-ALLDAYEVENT:FALSE
SUMMARY:Dine & Donate for Sandy Prettyman
DESCRIPTION:Benefit for Sandy Prettyman - come spread some holiday cheer and help a local. Sandy's home recently burned down and she has lost her house\, her belongings and her car. Luckily everyone was safe\, including her dog. Sandy is an active part of our community\, who always helps out others\; she needs all of our support at this time.\n\n\n\nPlease come out to the Cottage Caf  in Bethany Beach\, DE. A portion of the proceeds from the "Dine and Donate" will go to Sandy. There is a Silent Auction\, 50/ 50 raffle and a  Chinese Auction\, and: all the money from these items go directly to her. DJ Bump is providing us an evening of music.\n\n\n\nSee you at the Cottage!\n\n\n\nWMDT Story\n\nGoFundMe
X-ALT-DESC;FMTTYPE=text/html:<span style="font-family: arial\;"><span style="color: rgb(29\, 33\, 41)\; text-transform: none\; text-indent: 0px\; letter-spacing: normal\; font-size: 14px\; font-style: normal\; font-weight: 400\; word-spacing: 0px\; float: none\; display: inline !important\; white-space: pre-wrap\; orphans: 2\; widows: 2\; background-color: rgb(255\, 255\, 255)\; -webkit-text-stroke-width: 0px\; font-variant-ligatures: normal\; font-variant-caps: normal\; text-decoration-style: initial\; text-decoration-color: initial\;">Benefit for Sandy Prettyman - come spread some holiday cheer and help a local. Sandy&rsquo\;s home recently burned down and she has lost her house\, her belongings and her car. Luckily everyone was safe\, including her dog. Sandy is an active part of our community\, who always helps out others\; she needs all of our support at this time.</span><br style="color: rgb(29\, 33\, 41)\; text-transform: none\; text-indent: 0px\; letter-spacing: normal\; font-family: Helvetica\, Arial\, sans-serif\; font-size: 14px\; font-style: normal\; font-weight: 400\; word-spacing: 0px\; white-space: pre-wrap\; orphans: 2\; widows: 2\; background-color: rgb(255\, 255\, 255)\; -webkit-text-stroke-width: 0px\; font-variant-ligatures: normal\; font-variant-caps: normal\; text-decoration-style: initial\; text-decoration-color: initial\;" />\n<br style="color: rgb(29\, 33\, 41)\; text-transform: none\; text-indent: 0px\; letter-spacing: normal\; font-family: Helvetica\, Arial\, sans-serif\; font-size: 14px\; font-style: normal\; font-weight: 400\; word-spacing: 0px\; white-space: pre-wrap\; orphans: 2\; widows: 2\; background-color: rgb(255\, 255\, 255)\; -webkit-text-stroke-width: 0px\; font-variant-ligatures: normal\; font-variant-caps: normal\; text-decoration-style: initial\; text-decoration-color: initial\;" />\n<span style="color: rgb(29\, 33\, 41)\; text-transform: none\; text-indent: 0px\; letter-spacing: normal\; font-size: 14px\; font-style: normal\; font-weight: 400\; word-spacing: 0px\; float: none\; display: inline !important\; white-space: pre-wrap\; orphans: 2\; widows: 2\; background-color: rgb(255\, 255\, 255)\; -webkit-text-stroke-width: 0px\; font-variant-ligatures: normal\; font-variant-caps: normal\; text-decoration-style: initial\; text-decoration-color: initial\;">Please come out to the Cottage Caf&eacute\; in Bethany Beach\, DE. A portion of the proceeds from the &ldquo\;Dine and Donate&rdquo\; will go to Sandy. There is a Silent Auction\, 50/ 50 raffle and a&nbsp\; Chinese Auction\, and: all the money from these items go directly to her. DJ Bump is providing us an evening of music.</span><br style="color: rgb(29\, 33\, 41)\; text-transform: none\; text-indent: 0px\; letter-spacing: normal\; font-family: Helvetica\, Arial\, sans-serif\; font-size: 14px\; font-style: normal\; font-weight: 400\; word-spacing: 0px\; white-space: pre-wrap\; orphans: 2\; widows: 2\; background-color: rgb(255\, 255\, 255)\; -webkit-text-stroke-width: 0px\; font-variant-ligatures: normal\; font-variant-caps: normal\; text-decoration-style: initial\; text-decoration-color: initial\;" />\n<br style="color: rgb(29\, 33\, 41)\; text-transform: none\; text-indent: 0px\; letter-spacing: normal\; font-family: Helvetica\, Arial\, sans-serif\; font-size: 14px\; font-style: normal\; font-weight: 400\; word-spacing: 0px\; white-space: pre-wrap\; orphans: 2\; widows: 2\; background-color: rgb(255\, 255\, 255)\; -webkit-text-stroke-width: 0px\; font-variant-ligatures: normal\; font-variant-caps: normal\; text-decoration-style: initial\; text-decoration-color: initial\;" />\n<span style="color: rgb(29\, 33\, 41)\; text-transform: none\; text-indent: 0px\; letter-spacing: normal\; font-size: 14px\; font-style: normal\; font-weight: 400\; word-spacing: 0px\; float: none\; display: inline !important\; white-space: pre-wrap\; orphans: 2\; widows: 2\; background-color: rgb(255\, 255\, 255)\; -webkit-text-stroke-width: 0px\; font-variant-ligatures: normal\; font-variant-caps: normal\; text-decoration-style: initial\; text-decoration-color: initial\;">See you at the Cottage!<br />\n<br />\n<a href="https://www.wmdt.com/2019/11/community-rallies-around-dagsboro-family-after-house-fire/" target="_blank">WMDT Story</a><br />\n<a href="https://www.gofundme.com/f/sandy039s-house-burned-down" target="_blank">GoFundMe</a></span></span>
LOCATION:Cottage Caf 33034 Coastal Hwy Bethany Beach\, DE 19930
UID:e.2126.19456
SEQUENCE:3
DTSTAMP:20260426T034400Z
URL:http://business.thequietresorts.com/events/details/dine-donate-for-sandy-prettyman-19456
END:VEVENT

END:VCALENDAR
