BEGIN:VCALENDAR
VERSION:2.0
PRODID:-//ChamberMaster//Event Calendar 2.0//EN
METHOD:PUBLISH
X-PUBLISHED-TTL:P3D
REFRESH-INTERVAL:P3D
CALSCALE:GREGORIAN
BEGIN:VEVENT
DTSTART:20240423T200000Z
DTEND:20240424T010000Z
X-MICROSOFT-CDO-ALLDAYEVENT:FALSE
SUMMARY:Dine & Donate at Bethany Blues for the Historic Village in Ocean View (HVOV)
DESCRIPTION:Join the Historic Village in Ocean View and Bethany Blues for a Dine and Donate on April 23rd!\n\n\n\nCome out for delicious food dine in or carryout and 50/50 raffle tickets. Tickets are 3 for $5 or 7 for $10. \n\n\n\nBe sure to get your food voucher by emailing info@hvov.org or get them at the door.\n\n\n\n15% of all sales benefit the Historic Village of Ocean View.\n\n\n\nhttps://hvov.org/event-5509408?CalendarViewType=1&SelectedDate=4/18/2024
X-ALT-DESC;FMTTYPE=text/html:Join the Historic Village in Ocean View and Bethany Blues for a Dine and Donate on April 23rd!<br />\n<br />\nCome out for delicious food dine in or carryout and 50/50 raffle tickets. Tickets are 3 for $5 or 7 for $10.&nbsp\;<br />\n<br />\nBe sure to get your food voucher by emailing info@hvov.org or get them at the door.<br />\n<br />\n15% of all sales benefit the Historic Village of Ocean View.<br />\n<br />\n<a href="https://hvov.org/event-5509408?CalendarViewType=1&amp\;SelectedDate=4/18/2024">https://hvov.org/event-5509408?CalendarViewType=1&amp\;SelectedDate=4/18/2024</a>
LOCATION:Bethany Blues 6 N Pennsylvania Ave. Bethany Beach\, Delaware 19930
UID:e.2126.27795
SEQUENCE:3
DTSTAMP:20260420T061321Z
URL:http://business.thequietresorts.com/events/details/dine-donate-at-bethany-blues-for-the-historic-village-in-ocean-view-hvov-27795
END:VEVENT

END:VCALENDAR
