BEGIN:VCALENDAR
VERSION:2.0
PRODID:-//ChamberMaster//Event Calendar 2.0//EN
METHOD:PUBLISH
X-PUBLISHED-TTL:P3D
REFRESH-INTERVAL:P3D
CALSCALE:GREGORIAN
BEGIN:VEVENT
DTSTART:20211007T150000Z
DTEND:20211008T010000Z
X-MICROSOFT-CDO-ALLDAYEVENT:FALSE
SUMMARY:Dine & Donate
DESCRIPTION:Join the South Coastal Village Volunteers on Thursday\, October 7\, from 11:00 am - 9:00 pm at Good Earth Market for their first Dine & Donate fundraiser. A portion of all sales from lunch and dinner will be donated to the South Coastal Village Volunteers.\n\n\n\nIndividuals making reservations through Good Earth may dine in person or have their meal prepared for take out. To make a reservation\, please click here or if you are placing a take out order\, please call 302-537-7100.
X-ALT-DESC;FMTTYPE=text/html:<span style="font-family:arial\;"><span style="font-size:14px\;">Join the South Coastal Village Volunteers on Thursday\, October 7\, from 11:00 am - 9:00 pm at Good Earth Market for their first Dine &amp\; Donate fundraiser. A portion of all sales from lunch and dinner will be donated to the South Coastal Village Volunteers.<br />\n<br />\nIndividuals making reservations through Good Earth may dine in person or have their meal prepared for take out. To make a reservation\, please <a href="https://www.goodearthmarket.com/eat" target="_blank">click here</a> or if you are placing a take out order\, please call 302-537-7100.</span></span>
LOCATION:Good Earth Market 31806 Good Earth Ln Ocean View\, DE 19970
UID:e.2126.22927
SEQUENCE:3
DTSTAMP:20260424T115848Z
URL:http://business.thequietresorts.com/events/details/dine-donate-22927
END:VEVENT

END:VCALENDAR
