BEGIN:VCALENDAR
VERSION:2.0
PRODID:-//ChamberMaster//Event Calendar 2.0//EN
METHOD:PUBLISH
X-PUBLISHED-TTL:P3D
REFRESH-INTERVAL:P3D
CALSCALE:GREGORIAN
BEGIN:VEVENT
DTSTART:20230420T210000Z
DTEND:20230421T010000Z
X-MICROSOFT-CDO-ALLDAYEVENT:FALSE
SUMMARY:Dine and Donate at Northeast Seafood Kitchen
DESCRIPTION:South Coastal Village Volunteers (SCVV) provides services to seniors to enable them to stay in their homes as they age. Treat yourself to dinner and support SCVV..
X-ALT-DESC;FMTTYPE=text/html:South Coastal Village Volunteers (SCVV) provides services to seniors to enable them to stay in their homes as they age.&nbsp\;Treat yourself to dinner and support SCVV..
LOCATION:Northeast Seafood Kitchen\, 29 Atlantic Avenue\, Ocean View
UID:e.2126.25324
SEQUENCE:3
DTSTAMP:20260421T040503Z
URL:http://business.thequietresorts.com/events/details/dine-and-donate-at-northeast-seafood-kitchen-25324
END:VEVENT

END:VCALENDAR
