BEGIN:VCALENDAR
VERSION:2.0
PRODID:-//ChamberMaster//Event Calendar 2.0//EN
METHOD:PUBLISH
X-PUBLISHED-TTL:P3D
REFRESH-INTERVAL:P3D
CALSCALE:GREGORIAN
BEGIN:VEVENT
DTSTART:20231130T160000Z
DTEND:20231130T170000Z
X-MICROSOFT-CDO-ALLDAYEVENT:FALSE
SUMMARY:Digital Marketing in a New World by DE Small Business Development Center
DESCRIPTION:Join the Community Navigator Program powered by the DE Small Business Development Center and J.P. Morgan Chase for a webinar on Digital Marketing in a New World. Learn best practices on how to market your business and increase your community through digital channels.\n\nTopics covered include:\n\n\n	Your unique business\n	Where your customers are\n	Maximizing your online spaces\n	Analyzing and adjusting\n	Own your digital spaces\n\nRegister HERE.
X-ALT-DESC;FMTTYPE=text/html:<p style="color: rgb(0\, 0\, 0)\; font-family: Arial\, sans-serif\; font-size: 16px\;">Join the Community Navigator Program powered by the DE Small Business Development Center and J.P. Morgan Chase for a webinar on&nbsp\;<strong>Digital Marketing in a New World.</strong>&nbsp\;Learn best practices on how to market your business and increase your community through digital channels.</p>\n\n<p style="color: rgb(0\, 0\, 0)\; font-family: Arial\, sans-serif\; font-size: 16px\;">Topics covered include:</p>\n\n<ul style="color: rgb(0\, 0\, 0)\; font-family: Arial\, sans-serif\; font-size: 16px\;">\n	<li>Your unique business</li>\n	<li>Where your customers are</li>\n	<li>Maximizing your online spaces</li>\n	<li>Analyzing and adjusting</li>\n	<li>Own your digital spaces</li>\n</ul>\n<span style="font-size:22px\;"><span style="font-family:arial\;"><span style="font-size:18px\;">Register</span> <a href="https://portal.navigatede.org/workshop.aspx?ekey=1430067">HERE</a><strong>.</strong></span></span>
LOCATION:Online
UID:e.2126.26906
SEQUENCE:3
DTSTAMP:20260420T182454Z
URL:http://business.thequietresorts.com/events/details/digital-marketing-in-a-new-world-by-de-small-business-development-center-26906
END:VEVENT

END:VCALENDAR
