BEGIN:VCALENDAR
VERSION:2.0
PRODID:-//ChamberMaster//Event Calendar 2.0//EN
METHOD:PUBLISH
X-PUBLISHED-TTL:P3D
REFRESH-INTERVAL:P3D
CALSCALE:GREGORIAN
BEGIN:VEVENT
DTSTART:20210519T140000Z
DTEND:20210519T150000Z
X-MICROSOFT-CDO-ALLDAYEVENT:FALSE
SUMMARY:DiFebo's Market "Grand Opening & Ribbon Cutting"
DESCRIPTION:Join the staff at DiFebo's Market  in celebrating their Grand Opening and Ribbon Cutting on Wednesday May 19\, 2021 beginning at 10:00am.
X-ALT-DESC;FMTTYPE=text/html:<span style="color: rgb(51\, 51\, 51)\; font-family: sans-serif\, Arial\, Verdana\, &quot\;Trebuchet MS&quot\;\; font-size: 13px\; background-color: rgb(255\, 255\, 255)\;">Join the staff at DiFebo&#39\;s Market&nbsp\; in celebrating their Grand Opening and Ribbon Cutting on Wednesday May 19\, 2021 beginning at 10:00am.&nbsp\;&nbsp\;</span><br />\n&nbsp\;
LOCATION:DiFebo's Market 788 Garfield Parkway Bethany Beach\, DE 19930
UID:e.2126.22013
SEQUENCE:3
DTSTAMP:20260424T204227Z
URL:http://business.thequietresorts.com/events/details/difebo-s-market-grand-opening-ribbon-cutting-22013
END:VEVENT

END:VCALENDAR
