BEGIN:VCALENDAR
VERSION:2.0
PRODID:-//ChamberMaster//Event Calendar 2.0//EN
METHOD:PUBLISH
X-PUBLISHED-TTL:P3D
REFRESH-INTERVAL:P3D
CALSCALE:GREGORIAN
BEGIN:VEVENT
DTSTART:20191214T000000Z
DTEND:20191222T010000Z
X-MICROSOFT-CDO-ALLDAYEVENT:FALSE
SUMMARY:Dickens Parlour Theatre Presents: Top of the World: Holiday Musical!
DESCRIPTION:Dickens Parlour Theatre Presents: Top of the World: Holiday Musical! Join us for the perfect family musical\, magical journey into the Christmas that almost didn't happen! There are good guys and bad guys\, folks who vanish before your eyes\, singing\, laughter and (spoiler alert) a Happy Ending for all. Bring the kids   This staged reading is a terrific evening for the whole family. Dates: December 13th & 20th at 7:oo PM\; December 14th & 21st at 2:00 PM Performance dates & times subject to change Come join in the magic at the Dickens Parlor Theatre. Tickets for this and all events can be purchased by phone at: (302) 829-1071\, or online at www.dptmagic.com. Check us out on social media to get the latest updates and exciting news about our upcoming shows & performers!
X-ALT-DESC;FMTTYPE=text/html:<span style="font-size: 14px\;"><span style="font-family: arial\;">Dickens Parlour Theatre Presents: Top of the World: Holiday Musical! Join us for the perfect family musical\, magical journey into the Christmas that almost didn&rsquo\;t happen! There are good guys and bad guys\, folks who vanish before your eyes\, singing\, laughter and (spoiler alert) a Happy Ending for all. Bring the kids &ndash\; This staged reading is a terrific evening for the whole family. Dates: December 13th &amp\; 20th at 7:oo PM\; December 14th &amp\; 21st at 2:00 PM Performance dates &amp\; times subject to change Come join in the magic at the Dickens Parlor Theatre. Tickets for this and all events can be purchased by phone at: (302) 829-1071\, or online at www.dptmagic.com. Check us out on social media to get the latest updates and exciting news about our upcoming shows &amp\; performers!</span></span>
LOCATION:DICKENS PARLOUR THEATRE 35715 Atlantic Ave Millville\, DE
UID:e.2126.19497
SEQUENCE:3
DTSTAMP:20260426T034900Z
URL:http://business.thequietresorts.com/events/details/dickens-parlour-theatre-presents-top-of-the-world-holiday-musical-19497
END:VEVENT

END:VCALENDAR
