BEGIN:VCALENDAR
VERSION:2.0
PRODID:-//ChamberMaster//Event Calendar 2.0//EN
METHOD:PUBLISH
X-PUBLISHED-TTL:P3D
REFRESH-INTERVAL:P3D
CALSCALE:GREGORIAN
BEGIN:VEVENT
DTSTART:20200222T000000Z
DTEND:20200301T010000Z
X-MICROSOFT-CDO-ALLDAYEVENT:FALSE
SUMMARY:Dickens Parlour Theatre Presents: Love Letters
DESCRIPTION:Dickens Parlour Theatre Presents: Love Letters Love Letters is a play by A. R. Gurney that was a finalist for the Pulitzer Prize for Drama. The play centers on two characters\, Melissa Gardner and Andrew Makepeace Ladd III. Using the epistolary form sometimes found in novels\, they sit side by side at tables and read the notes\, letters and cards   in which over nearly 50 years\, they discuss their hopes and ambitions\, dreams and disappointments\, victories and defeats   that have passed between them throughout their separated lives. Love Letters is presented by special arrangement with Dramatists Play Service\, Inc.\, New York." Performances by Bob Kemp & Liane Hansen Directed by James Vagias All Performers Subject to change with out notice. Come join in the magic at the Dickens Parlor Theatre. Tickets for this and all events can be purchased by phone at: (302) 829-1071\, or online at www.dptmagic.com. Check us out on social media to get the latest updates and exciting news about our upcoming shows & performers!
X-ALT-DESC;FMTTYPE=text/html:<span style="font-size: 14px\;"><span style="font-family: arial\;">Dickens Parlour Theatre Presents: Love Letters Love Letters is a play by A. R. Gurney that was a finalist for the Pulitzer Prize for Drama. The play centers on two characters\, Melissa Gardner and Andrew Makepeace Ladd III. Using the epistolary form sometimes found in novels\, they sit side by side at tables and read the notes\, letters and cards &ndash\; in which over nearly 50 years\, they discuss their hopes and ambitions\, dreams and disappointments\, victories and defeats &ndash\; that have passed between them throughout their separated lives. Love Letters is presented by special arrangement with Dramatists Play Service\, Inc.\, New York.&rdquo\; Performances by Bob Kemp &amp\; Liane Hansen Directed by James Vagias All Performers Subject to change with out notice. Come join in the magic at the Dickens Parlor Theatre. Tickets for this and all events can be purchased by phone at: (302) 829-1071\, or online at www.dptmagic.com. Check us out on social media to get the latest updates and exciting news about our upcoming shows &amp\; performers!</span></span>
LOCATION:Dickens Parlour Theatre 35715 Atlantic Ave Millville\, DE 19967
UID:e.2126.20067
SEQUENCE:3
DTSTAMP:20260426T003603Z
URL:http://business.thequietresorts.com/events/details/dickens-parlour-theatre-presents-love-letters-20067
END:VEVENT

END:VCALENDAR
