BEGIN:VCALENDAR
VERSION:2.0
PRODID:-//ChamberMaster//Event Calendar 2.0//EN
METHOD:PUBLISH
X-PUBLISHED-TTL:P3D
REFRESH-INTERVAL:P3D
CALSCALE:GREGORIAN
BEGIN:VEVENT
DTSTART:20200312T230000Z
DTEND:20200315T000000Z
X-MICROSOFT-CDO-ALLDAYEVENT:FALSE
SUMMARY:Dickens Parlour Theatre Presents: Derrin Berger
DESCRIPTION:Dickens Parlour Theatre Presents: Derrin Berger\, March 12th - 14th! Derrin Berger is a NY based magician known for his imaginative approach. Recognized for his unique perspective\, Derrin has won awards for both skill and creativity. He has performed across the country\, including the Chicago Magic Lounge\, Mohegan Sun Casino\, and the Magic Castle in Hollywood\, CA. Derrin is also one of the primary consultants for truTV's hidden camera magic TV show\, "The Carbonaro Effect". *All Performers Subject to change Come join in the magic at the Dickens Parlor Theatre. Tickets for this and all events can be purchased by phone at: (302) 829-1071\, or online at www.dptmagic.com. Check us out on social media to get the latest updates and exciting news about our upcoming shows & performers!
X-ALT-DESC;FMTTYPE=text/html:<span style="font-size: 14px\;"><span style="font-family: arial\;">Dickens Parlour Theatre Presents: Derrin Berger\, March 12th - 14th! Derrin Berger is a NY based magician known for his imaginative approach. Recognized for his unique perspective\, Derrin has won awards for both skill and creativity. He has performed across the country\, including the Chicago Magic Lounge\, Mohegan Sun Casino\, and the Magic Castle in Hollywood\, CA. Derrin is also one of the primary consultants for truTV&rsquo\;s hidden camera magic TV show\, &ldquo\;The Carbonaro Effect&rdquo\;. *All Performers Subject to change Come join in the magic at the Dickens Parlor Theatre. Tickets for this and all events can be purchased by phone at: (302) 829-1071\, or online at www.dptmagic.com. Check us out on social media to get the latest updates and exciting news about our upcoming shows &amp\; performers!</span></span>
LOCATION:Dickens Parlour Theatre 35715 Atlantic Ave Millville\, DE 19967
UID:e.2126.20270
SEQUENCE:3
DTSTAMP:20260426T003755Z
URL:http://business.thequietresorts.com/events/details/dickens-parlour-theatre-presents-derrin-berger-20270
END:VEVENT

END:VCALENDAR
