BEGIN:VCALENDAR
VERSION:2.0
PRODID:-//ChamberMaster//Event Calendar 2.0//EN
METHOD:PUBLISH
X-PUBLISHED-TTL:P3D
REFRESH-INTERVAL:P3D
CALSCALE:GREGORIAN
BEGIN:VEVENT
DTSTART:20200128T000000Z
DTEND:20200128T010000Z
X-MICROSOFT-CDO-ALLDAYEVENT:FALSE
SUMMARY:Dickens Parlour Theatre Presents:Delmarva Improv Group
DESCRIPTION:Come to Dickens Parlour Theatre Monday\, January 27th\, and laugh out loud with Delmarva Improv Group! This Adults Only show will begin at 7:00 p.m. Delmarva Improv Group is an awesome\, new comedy team inspiring smiles and creating contagious laughter! In January\, 2019\, Delmarva Improv Group was established and the stars were born! Performing at local venues\, they established their exciting repertoire of comedic variety. There is definitely no shortage of laughter when Delmarva Improv Group comes to town! The cast of hilariously talented comedians have different backgrounds and approaches to comedy\, yet all coordinate to create an entertaining atmosphere. This comedy show will feature fun games and hilarious improv performances\, for a guaranteed exciting time! The various\, comedic personalities will appeal to many senses of humor. So\, if you need a little laughter medicine (we all could use some)\, hurry in this weekend\, and be prepared for humorous\, amusing entertainment! Come join in the magic at the Dickens Parlor Theatre. Tickets for this and all events can be purchased by phone at: (302) 829-1071\, or online at www.dptmagic.com. Check us out on social media to get the latest updates and exciting news about our upcoming shows & performers!
X-ALT-DESC;FMTTYPE=text/html:<span style="font-size: 14px\;"><span style="font-family: arial\;">Come to Dickens Parlour Theatre Monday\, January 27th\, and laugh out loud with Delmarva Improv Group! This Adults Only show will begin at 7:00 p.m. Delmarva Improv Group is an awesome\, new comedy team inspiring smiles and creating contagious laughter! In January\, 2019\, Delmarva Improv Group was established and the stars were born! Performing at local venues\, they established their exciting repertoire of comedic variety. There is definitely no shortage of laughter when Delmarva Improv Group comes to town! The cast of hilariously talented comedians have different backgrounds and approaches to comedy\, yet all coordinate to create an entertaining atmosphere. This comedy show will feature fun games and hilarious improv performances\, for a guaranteed exciting time! The various\, comedic personalities will appeal to many senses of humor. So\, if you need a little laughter medicine (we all could use some)\, hurry in this weekend\, and be prepared for humorous\, amusing entertainment! Come join in the magic at the Dickens Parlor Theatre. Tickets for this and all events can be purchased by phone at: (302) 829-1071\, or online at www.dptmagic.com. Check us out on social media to get the latest updates and exciting news about our upcoming shows &amp\; performers!</span></span>
LOCATION:DICKENS PARLOUR THEATRE 35715 Atlantic Ave Millville\, DE 19967
UID:e.2126.19651
SEQUENCE:3
DTSTAMP:20260426T034533Z
URL:http://business.thequietresorts.com/events/details/dickens-parlour-theatre-presents-delmarva-improv-group-01-27-2020-19651
END:VEVENT

END:VCALENDAR
