BEGIN:VCALENDAR
VERSION:2.0
PRODID:-//ChamberMaster//Event Calendar 2.0//EN
METHOD:PUBLISH
X-PUBLISHED-TTL:P3D
REFRESH-INTERVAL:P3D
CALSCALE:GREGORIAN
BEGIN:VEVENT
DTSTART:20230811T233000Z
DTEND:20230812T020000Z
X-MICROSOFT-CDO-ALLDAYEVENT:FALSE
SUMMARY:Diana Krall
DESCRIPTION:TICKETS RANGE FROM $49-99\n\nDiana Krall is the only jazz singer to have eight albums debut at the top of the Billboard Jazz Albums chart. To date\, her albums have garnered two Grammy Awards\, 10 Juno  Awards and have earned nine Gold\, three Platinum\, and seven multi-Platinum albums.\n\nHer 1999 release of "When I Look in Your Eyes" spent an unprecedented 52 weeks in the #1 position on Billboard's Jazz chart\, won two Grammy Awards\, and went Platinum in the U.S. and Canada.\n\nHer most recent release\, "This Dream Of You\," has garnered critical acclaim from fans and press alike. Krall's unique artistry transcends any single musical style and has made her one of the most recognizable artists of our time. As The New York Times recently noted\, she possesses "a voice at once cool and sultry\, wielded with a rhythmic sophistication."
X-ALT-DESC;FMTTYPE=text/html:<h6>TICKETS RANGE FROM&nbsp\;$49-99</h6>\n\n<p>Diana Krall is the only jazz singer to have eight albums debut at the top of the Billboard Jazz Albums chart. To date\, her albums have garnered two Grammy Awards\, 10 Juno&reg\; Awards and have earned nine Gold\, three Platinum\, and seven multi-Platinum albums.</p>\n\n<p>Her 1999 release of &quot\;When I Look in Your Eyes&quot\; spent an unprecedented 52 weeks in the #1 position on Billboard&#39\;s Jazz chart\, won two Grammy Awards\, and went Platinum in the U.S. and Canada.</p>\n\n<p>Her most recent release\, &quot\;This Dream Of You\,&quot\; has garnered critical acclaim from fans and press alike. Krall&#39\;s unique artistry transcends any single musical style and has made her one of the most recognizable artists of our time. As The New York Times recently noted\, she possesses &ldquo\;a voice at once cool and sultry\, wielded with a rhythmic sophistication.&rdquo\;</p>\n
LOCATION:Freeman Arts Pavilion a program of the Joshua M. Freeman Foundation is a champion of the arts on Delmarva\, providing diverse arts performances as well as arts access programs for local schools and the community at large. From June-September the Freeman Arts Pavilion is an open-air performance space showcasing music\, dance\, comedy\, theater\, children's programs\, and free events.
UID:e.2126.26119
SEQUENCE:3
DTSTAMP:20260420T213114Z
URL:http://business.thequietresorts.com/events/details/diana-krall-26119
END:VEVENT

END:VCALENDAR
