BEGIN:VCALENDAR
VERSION:2.0
PRODID:-//ChamberMaster//Event Calendar 2.0//EN
METHOD:PUBLISH
X-PUBLISHED-TTL:P3D
REFRESH-INTERVAL:P3D
CALSCALE:GREGORIAN
BEGIN:VEVENT
DTSTART:20230206T170000Z
DTEND:20230207T020000Z
X-MICROSOFT-CDO-ALLDAYEVENT:FALSE
SUMMARY:Dewey Beer Co. Dine to Donate
DESCRIPTION:Good beer\, good food\, and good company- for a good cause! Stop by Dewey Beer Co. on Monday\, February 6th from 12pm-9pm and 20% of your purchase will benefit the Delaware Center for the Inland Bays! Dine to Donate is all day long\, but from 5pm-9pm\, Center staff will be onsite to hang out\, answer questions\, and chat about our programs and projects. Interactive Inland Bays fun and games will be from 7pm-8:30pm\, so bring a friend (or several!). There will also be a raffle for some awesome Center prizes.
X-ALT-DESC;FMTTYPE=text/html:Good beer\, good food\, and good company- for a good cause! Stop by Dewey Beer Co. on Monday\, February 6th from 12pm-9pm and 20% of your purchase will benefit the Delaware Center for the Inland Bays! Dine to Donate is all day long\, but from 5pm-9pm\, Center staff will be onsite to hang out\, answer questions\, and chat about our programs and projects. Interactive Inland Bays fun and games will be from 7pm-8:30pm\, so bring a friend (or several!). There will also be a raffle for some awesome Center prizes.
LOCATION:Dewey Beer Co. 2100 Coastal Highway Dewey Beach\, DE 19958
UID:e.2126.25079
SEQUENCE:3
DTSTAMP:20260421T073634Z
URL:http://business.thequietresorts.com/events/details/dewey-beer-co-dine-to-donate-25079
END:VEVENT

END:VCALENDAR
