BEGIN:VCALENDAR
VERSION:2.0
PRODID:-//ChamberMaster//Event Calendar 2.0//EN
METHOD:PUBLISH
X-PUBLISHED-TTL:P3D
REFRESH-INTERVAL:P3D
CALSCALE:GREGORIAN
BEGIN:VEVENT
DTSTART:20230114T230000Z
DTEND:20230115T030000Z
X-MICROSOFT-CDO-ALLDAYEVENT:FALSE
SUMMARY:Denim & Diamonds Contractors for a Cause
DESCRIPTION:Contractors for a Cause\n\nDenim & Diamonds\n\nRamp it Up for Accessibility Program Fundraiser\n\nSaturday\, January 12\, 2023\n\n6:00pm to 10:00 pm at Harvest Tide Restaurant\n\n\n**Ticket includes Champagne reception\, 4 course dinner\, live music & dancing featuring Monkee Paw\, silent auction\n\n** Funds raised will help build an inventory of new and gently used metal ramp components for ramps needed to members in the community\, to allow safe entry and exit out of their homes.\n\n\n\nConsider Sponsorship:\n\nPLATINUM   $3000.00 for 8 Premier table with 8 seats\, with up to 4 bottles of wine service\, prominent logo & link on CFAC website\, social media\, signage at event\, recognition at event\, & post recognition (email\, newspaper\, social media)\n\n\n\nGOLD   $1500.00 for 6 Premier table  with 6 seats\, with up to 2 bottles of wine service\, prominent logo & link on CFAC website\,  social media\,\n\n& signage at event.\n\n\n\nBRONZE   $500.00 for 2 \n\n2 reserved seats\, social media recognition\, & signage at the event.\n\n\n\nSILVER   $1000.00 for 4      \n\n4 reserved seats\, CFAC website & social media recognition\, & signage at the event.
X-ALT-DESC;FMTTYPE=text/html:<div style="text-align: center\;"><span style="font-size:14px\;"><span style="font-family:arial\;">Contractors for a Cause<br />\n<strong>Denim &amp\; Diamonds</strong><br />\nRamp it Up for Accessibility Program Fundraiser<br />\n<strong>Saturday\, January 12\, 2023</strong><br />\n6:00pm to 10:00 pm at Harvest Tide Restaurant</span></span></div>\n<br />\n<em><strong>**Ticket includes Champagne reception\, 4 course dinner\, live music &amp\; dancing featuring Monkee Paw\, silent auction<br />\n** Funds raised will help build an inventory of new and gently used metal ramp components for ramps needed to members in the community\, to allow safe entry and exit out of their homes.</strong></em><br />\n<br />\nConsider Sponsorship:<br />\nPLATINUM &bull\; $3000.00 for 8 Premier table with 8 seats\, with up to 4 bottles of wine service\, prominent logo &amp\; link on CFAC website\, social media\, signage at event\, recognition at event\, &amp\; post recognition (email\, newspaper\, social media)<br />\n<br />\nGOLD &bull\; $1500.00 for 6 Premier table&nbsp\; with 6 seats\, with up to 2 bottles of wine service\, prominent logo &amp\; link on CFAC website\,&nbsp\; social media\,<br />\n&amp\; signage at event.<br />\n<br />\nBRONZE &bull\; $500.00 for 2&nbsp\;<br />\n2 reserved seats\, social media recognition\, &amp\; signage at the event.<br />\n<br />\nSILVER &bull\; $1000.00 for 4&nbsp\; &nbsp\; &nbsp\;&nbsp\;<br />\n4 reserved seats\, CFAC website &amp\; social media recognition\, &amp\; signage at the event.<br />\n<br />\n&nbsp\;
LOCATION:Harvest Tide Restaurant 98 Garfield Pkwy Bethany Beach\, DE 19930
UID:e.2126.24889
SEQUENCE:3
DTSTAMP:20260421T111158Z
URL:http://business.thequietresorts.com/events/details/denim-diamonds-contractors-for-a-cause-24889
END:VEVENT

END:VCALENDAR
