BEGIN:VCALENDAR
VERSION:2.0
PRODID:-//ChamberMaster//Event Calendar 2.0//EN
METHOD:PUBLISH
X-PUBLISHED-TTL:P3D
REFRESH-INTERVAL:P3D
CALSCALE:GREGORIAN
BEGIN:VEVENT
DTSTART:20240610T200000Z
DTEND:20240610T230000Z
X-MICROSOFT-CDO-ALLDAYEVENT:FALSE
SUMMARY:DelDOT Public Workshop for Route 54 Bridge Project
DESCRIPTION:The Delaware Department of Transportation (DelDOT) would like to invite residents and all other interested parties to a public workshop regarding the replacement of Bridge 3-437 on Lighthouse Road.  The primary purpose of the meeting is to share the results from the previous public outreach and gain additional feedback from the public.  \n\n\n\nThis workshop will include a presentation at 5:00PM providing a general overview of the project\, preenting the public feedback results and providing updates on the project schedule.  The presentation will be followed by an open forum allowing the public to ask questions and provide feedback on the project.\n\n\n\nThis workshop location is accessible to persons having disabilities.  Persons who require auxiliary aids and services such as qualified interpreters are requested to contact DelDOT by phone or mail one week in advvance. \n\n\n\nFor further information contact DelDOT Community Relations at 1-800-652-5600 (in DE) or 302-760-2080\, or write to DelDOT Community Relations PO Box 778\, Dover\, DE 19903\, or via email to dotpr@delaware\,gov.
X-ALT-DESC;FMTTYPE=text/html:The Delaware Department of Transportation (DelDOT) would like to invite residents and all other interested parties to a public workshop regarding the replacement of Bridge 3-437 on Lighthouse Road.&nbsp\; The primary purpose of the meeting is to share the results from the previous public outreach and gain additional feedback from the public.&nbsp\;&nbsp\;<br />\n<br />\nThis workshop will include a presentation at 5:00PM providing a general overview of the project\, preenting the public feedback results and providing updates on the project schedule.&nbsp\; The presentation will be followed by an open forum allowing the public to ask questions and provide feedback on the project.<br />\n<br />\nThis workshop location is accessible to persons having disabilities.&nbsp\; Persons who require auxiliary aids and services such as qualified interpreters are requested to contact DelDOT by phone or mail one week in advvance.&nbsp\;<br />\n<br />\nFor further information contact DelDOT Community Relations at 1-800-652-5600 (in DE) or 302-760-2080\, or write to DelDOT Community Relations PO Box 778\, Dover\, DE 19903\, or via email to dotpr@delaware\,gov.
LOCATION:Roxana Volunteer Fire Company 35943 Zion Church Rd. Frankford\, DE 19945
UID:e.2126.30121
SEQUENCE:3
DTSTAMP:20260420T090533Z
URL:http://business.thequietresorts.com/events/details/deldot-public-workshop-for-route-54-bridge-project-30121
END:VEVENT

END:VCALENDAR
